Workbook
Name CumForecast: #REF!
Name forecast_start: #REF!
Name forecast_start_q: IF(OR(MONTH(#REF!)=1,MONTH(#REF!)=2,MONTH(#REF!)=3),"Q1",IF(OR(MONTH(#REF!)=4,MONTH(#REF!)=5,MONTH(#REF!)=6),"Q2",IF(OR(MONTH(#REF!)=7,MONTH(#REF!)=8,MONTH(#REF!)=9),"Q3","Q4")))
Name forecast_start_q: IF(OR(MONTH(#REF!)=1,MONTH(#REF!)=2,MONTH(#REF!)=3),"Q1",IF(OR(MONTH(#REF!)=4,MONTH(#REF!)=5,MONTH(#REF!)=6),"Q2",IF(OR(MONTH(#REF!)=7,MONTH(#REF!)=8,MONTH(#REF!)=9),"Q3","Q4")))
Name forecast_start_q: IF(OR(MONTH(#REF!)=1,MONTH(#REF!)=2,MONTH(#REF!)=3),"Q1",IF(OR(MONTH(#REF!)=4,MONTH(#REF!)=5,MONTH(#REF!)=6),"Q2",IF(OR(MONTH(#REF!)=7,MONTH(#REF!)=8,MONTH(#REF!)=9),"Q3","Q4")))
Name forecast_start_q: IF(OR(MONTH(#REF!)=1,MONTH(#REF!)=2,MONTH(#REF!)=3),"Q1",IF(OR(MONTH(#REF!)=4,MONTH(#REF!)=5,MONTH(#REF!)=6),"Q2",IF(OR(MONTH(#REF!)=7,MONTH(#REF!)=8,MONTH(#REF!)=9),"Q3","Q4")))
Name forecast_start_y: YEAR(#REF!)
Name forecast_start_y: YEAR(#REF!)
Name forecast_start_y: YEAR(#REF!)
Name forecast_start_y: YEAR(#REF!)
Name forecast_start_y: YEAR(forecast_start)
Name InitialLNG: #REF!
Name MRSInjection: #REF!
Name MRSWithdrawal: #REF!
Name NorwayForecast: #REF!
Name TotDemd: #REF!
Name UKCSForecast: #REF!

Sheet Contents
A2: Title | B2: Link
A3: Forecast gas demand for winter 2026/27 | B3: =HYPERLINK("#'Gas demand fig 1 & tab 1'!j1","Figure 1") -> Figure 1
A4: Forecast gas demand for winter 2026/27 and actual and weather corrected demand for 2025/26 | B4: =HYPERLINK("#'Gas demand fig 1 & tab 1'!B1","Table 1") -> Table 1
A5: Historic & forecast winter supplies | B5: =HYPERLINK("#'Gas supply fig 2 & tab 2'!c1","Table 2") -> Table 2
A6: Forecast supplies for winter 2026/27 | B6: =HYPERLINK("#'Gas supply fig 2 & tab 2'!i1","Figure 2") -> Figure 2
A7: Peak 1-in-20 demand forecast for 2025/26 and 2026/27 | B7: =HYPERLINK("#'Peak 1-in-20 fig 3 & tab 3'!B1","Figure 3 & Table3") -> Figure 3 & Table3
A8: Supply capability for 2026/27 | B8: =HYPERLINK("#'Supply capability fig 4 & tab 4'!n1","Figure 4") -> Figure 4
A9: Supply capability for 2025/26 and 2026/27 | B9: =HYPERLINK("#'Supply capability fig 4 & tab 4'!g1","Table 4") -> Table 4
A10: Peak day supply margins for 2025/26 and 2026/27 | B10: =HYPERLINK("#'Supply margins tab 5 & fig 5'!m1","Table 5") -> Table 5
A11: Peak day supply margins for 2026/27 | B11: =HYPERLINK("#'Supply margins tab 5 & fig 5'!q1","Figure 5") -> Figure 5
A12: GB Storage stocks for gas years 2024/25 & 2025/26 | B12: =HYPERLINK("#'GB StorageStock fig 6 '!q1","Figure 6") -> Figure 6
A13: GB storage stock/space/fullness ahead of recent cold snaps | B13: =HYPERLINK("#'Cold Snaps Stocks fig 7'!H1","Figure 7") -> Figure 7
A14: Peak Gas demand for electricity generation by gas winter 2023/24 to winter 2025/26 | B14: =HYPERLINK("#'Peak elec gen fig 8 & tab 6'!H1","Figure 8") -> Figure 8
A15: Peak gas demand for power winter 2023/24 to winter 2025/26 | B15: =HYPERLINK("#'Peak gas demand for power fig 9'!D8","Figure 9") -> Figure 9
A16: Top 20 producing UKCS fields | B16: =HYPERLINK("#'UKCS fields tab 7'!D8","Table 7") -> Table 7
A17: Map of terminals showing UKCS flows split by sub terminals | B17: =HYPERLINK("#'Map terminals Fig 10'!f1","Figure 10") -> Figure 10
A18: GB delivered LNG winter volumes 2024/25 vs 2025/26 by source | B18: =HYPERLINK("#'GB delivered LNG fig 11'!h1","Figure 11") -> Figure 11
A19: Global annual LNG liquefaction capacity additions from post-FID projects (bcm/yr) | B19: =HYPERLINK("#'LNG liquefaction cap Fig 12'!h1","Figure 12") -> Figure 12
A20: NBP-TTF monthly future contract spreads, with interconnector tariff thresholds | B20: =HYPERLINK("#'NPB-TFF fig 13'!h1","Figure 13") -> Figure 13
A21: EU storage under average, cold and supply loss conditions | B21: =HYPERLINK("#'EUStorage Stocks fig 14 & tab 8'!l1","Figure 14") -> Figure 14
A22: European demand and flexible supply under average, cold and supply loss conditions | B22: =HYPERLINK("#'EUStorage Stocks fig 14 & tab 8'!ag1","Table 8") -> Table 8
A23: Compare scenario demand with central forecast | B23: =HYPERLINK("#'Scenario 1 fig 15 tab 9-11'!t42","Table 9") -> Table 9
A24: Compare scenario supply with central forecast | B24: =HYPERLINK("#'Scenario 1 fig 15 tab 8-10'!w36","Table 10") -> Table 10
A25: Interesting days breakdown (Peak 21st of January, High storage 5th of March | B25: =HYPERLINK("#'Scenario 1 fig 15 tab 8-10'!m56","Table 11") -> Table 11
A26: Scenario 1 supply | B26: =HYPERLINK("#'Scenario 1 fig 15 tab 9-11'!n4","Figure 15") -> Figure 15
A27: Compare scenario demand with central forecast | B27: =HYPERLINK("#'Scenario 2 fig 16 tab 12-14'!t42","Table 12") -> Table 12
A28: Compare scenario supply with central forecast | B28: =HYPERLINK("#'Scenario 2 fig 16 tab 12-14'!w36","Table 13") -> Table 13
A29: Interesting days breakdown (Peak 1st of December, High imports 19th of December | B29: =HYPERLINK("#'Scenario 2 fig 16 tab 12-14'!m56","Table 14") -> Table 14
A30: Scenario 2 supply | B30: =HYPERLINK("#'Scenario 2 fig 16 tab 12-14'!n2","Figure 16") -> Figure 16
A31: Storage stock levels for scenario 3 | B31: =HYPERLINK("#'Scenario 3 fig 17 tab 15-16'!t42","Table 15") -> Table 15
A32: Average and max supply and demand for cold snap scenario | B32: =HYPERLINK("#'Scenario 3 fig 17 tab 15-16'!t42","Table 16") -> Table 16
A33: Cold snap supplies with 65% full storage | B33: =HYPERLINK("#'Scenario 3 fig 17 tab 15-16'!n2","Figure 17") -> Figure 17
A34: Cold snap supplies – GB storage stocks at 65%, 50mcm/d with supply loss | B34: =HYPERLINK("#'Sensitivities figure 18'!m5","Figure 18") -> Figure 18
A35: Cold snap supplies – stocks at 25%, 50mcm/d, no supply loss | B35: =HYPERLINK("#'Sensitivities figure 19'!m5","Figure 19") -> Figure 19

Sheet Key stats chart
A1: =HYPERLINK("#'Contents'!A1","Contents Page") -> Contents Page
G2: mcm/d | H2: 2025/26 Actuals | I2: 2025/26 Forecast | J2: 2026/27 Forecast
G3: Avg daily demand | H3: ='Gas demand fig 1 & tab 1'!E10*1000/182 -> 248.34574 | J3: ='Gas demand fig 1 & tab 1'!F10*1000/182 -> 246.0402
G4: Daily peak demand | I4: 481.88118 | J4: ='Peak 1-in-20 fig 3 & tab 3'!E8 -> 492.50861
G5: Supply capability | I5: 565 | J5: ='Supply margins tab 5 & fig 5'!I12 -> 591.6856

Sheet Gas demand fig 1 & tab 1
A1: =HYPERLINK("#'Contents'!A1","Content Page") -> Content Page | C1: Table 1
C2: bcm (including shrinkage) | D2: 2025/26 Actual Demand | E2: 2025/26 Weather Corrected Demand | F2: 2026/27 Forecast | G2: % Change
C3: Non-daily metered (NDM) | D3: 25.697999 | E3: 26.329124 | F3: 26.445739 | G3: =(F3-E3)/E3 -> 0.0044290991 | J3: Figure 1
C4: Daily metered (DM) and Industrial | D4: 3.7162376 | E4: 3.7058082 | F4: 3.6882562 | G4: =(F4-E4)/E4 -> -0.0047363443
C5: Gas demand for electricity generation | D5: 7.96398 | E5: 8 | F5: 7.6034955 | G5: =(F5-E5)/E5 -> -0.049563056
C6: Great Britain's gas demand | D6: 37.378217 | E6: 38.034933 | F6: 37.73749 | G6: =(F6-E6)/E6 -> -0.0078202356
C7: Exports to Ireland | D7: 3.30206 | E7: 3.3019774 | F7: 3.309801 | G7: =(F7-E7)/E7 -> 0.0023693694
C8: Exports to continental Europe | D8: 1.44338 | E8: 1.4435167 | F8: 1.3726968 | G8: =(F8-E8)/E8 -> -0.049060699
C9: GB storage injection | D9: 2.10185 | E9: 2.1017601 | F9: 2.1330467 | G9: =(F9-E9)/E9 -> 0.014885879
C10: Total NTS gas demand | D10: 44.542245 | E10: 45.198925 | F10: 44.779317 | G10: =(F10-E10)/E10 -> -0.0092835948
C24: Table A
C25: TWh (including shrinkage) | D25: 2025/26 Actual Demand | E25: 2025/26 Weather Corrected Demand | F25: 2026/27 Forecast
C26: NDM | D26: =D3*11 -> 282.67799 | E26: =E3*11 -> 289.62037 | F26: =F3*11 -> 290.90313
C27: DM + Industrial | D27: =D4*11 -> 40.878614 | E27: =E4*11 -> 40.76389 | F27: =F4*11 -> 40.570819 | K27: =C3 -> Non-daily metered (NDM) | L27: =C4 -> Daily metered (DM) and Industrial | M27: =C5 -> Gas demand for electricity generation | N27: =C6 -> Great Britain's gas demand | O27: =C7 -> Exports to Ireland | P27: =C8 -> Exports to continental Europe | Q27: =C9 -> GB storage injection | R27: =C10 -> Total NTS gas demand
C28: Power | D28: =D5*11 -> 87.60378 | E28: =E5*11 -> 88 | F28: =F5*11 -> 83.638451 | J28: 2026/27 Forecast | K28: =F3 -> 26.445739 | L28: =F4 -> 3.6882562 | M28: =F5 -> 7.6034955 | N28: =SUM(K28:M28) -> 37.73749 | O28: =F7 -> 3.309801 | P28: =F8 -> 1.3726968 | Q28: =F9 -> 2.1330467 | R28: =F10 -> 44.779317
C29: Total GB demand | D29: =D6*11 -> 411.16038 | E29: =E6*11 -> 418.38426 | F29: =F6*11 -> 415.1124
C30: Ireland | D30: =D7*11 -> 36.32266 | E30: =E7*11 -> 36.321752 | F30: =F7*11 -> 36.407811
C31: Exports to continental Europe | D31: =D8*11 -> 15.87718 | E31: =E8*11 -> 15.878684 | F31: =F8*11 -> 15.099665
C32: Storage Injection | D32: =D9*11 -> 23.12035 | E32: =E9*11 -> 23.119362 | F32: =F9*11 -> 23.463514
C33: Total NTS demand | D33: =D10*11 -> 489.9647 | E33: =E10*11 -> 497.18818 | F33: =F10*11 -> 492.57249

Sheet Gas supply fig 2 & tab 2
A1: =HYPERLINK("#'Contents'!A1","Content Page") -> Content Page | C1: Table 2
C2: Winter (bcm) | D2: 2025/26 Actual | E2: 2026/2027 Forecast | F2: % Change
C3: UK Continental Shelf | D3: 14.90772 | E3: 14.2 | F3: =IFERROR((E3-D3)/D3,"0%") -> -0.04747339 | T3: 2025/26 Actual | U3: UKCS | V3: Biomethane | W3: Norway | X3: LNG Import | Y3: Eu Import | Z3: GB Storage Withdrawal | AA3: 2026/27 Forecast
C4: Biomethane | D4: 0.29067781 | E4: 0.31792697 | F4: =IFERROR((E4-D4)/D4,"0%") -> 0.093743512 | T4: =D9 -> 44.542245 | U4: =E3-D3 -> -0.70772 | V4: =E4-D4 -> 0.027249159 | W4: =E5-D5 -> 0.2 | X4: =E6-D6 -> 0.5629026 | Y4: =E7-D7 -> 0.0001 | Z4: =E8-D8 -> 0.1512855 | AA4: =SUM(T4:Z4) -> 44.776062
C5: Norway | D5: 15.33055 | E5: 15.53055 | F5: =IFERROR((E5-D5)/D5,"0%") -> 0.013045846 | I5: Figure 2
C6: LNG Import | D6: 11.725307 | E6: 12.28821 | F6: =IFERROR((E6-D6)/D6,"0%") -> 0.048007492
C7: Imports from continental Europe | D7: 0.0999 | E7: 0.1 | F7: =IFERROR((E7-D7)/D7,"0%") -> 0.001001001
C8: GB storage withdrawal | D8: 2.18809 | E8: 2.3393755 | F8: =IFERROR((E8-D8)/D8,"0%") -> 0.069140438
C9: Total | D9: 44.542245 | E9: 44.776062 | F9: =IFERROR((E9-D9)/D9,"0%") -> 0.0052493372
G25: Table B
C27: Winter bcm / (average mcm/d) | D27: 2025/26 Actual | E27: 2026/2027 Forecast | G27: Winter TWh / (average GWh/d) | H27: 2025/26 Actual | I27: 2026/2027 Forecast
C28: UK Continental Shelf | D28: =TEXT(D3,"0.0")&" bcm "&" ("&TEXT(D48,"0") &" mcm/d)" -> 14.9 bcm (82 mcm/d) | E28: =TEXT(E3,"0.0")&" bcm "&" ("&TEXT(E48,"0") &" mcm/d)" -> 14.2 bcm (78 mcm/d) | G28: UK Continental Shelf | H28: =TEXT(H38,"0.0")&" TWh "&" ("&TEXT(H48,"0")&" GWh/d)" -> 164.0 TWh (901 GWh/d) | I28: =TEXT(I38,"0.0")&" TWh "&" ("&TEXT(I48,"0")&" GWh/d)" -> 156.2 TWh (858 GWh/d)
C29: Biomethane | D29: =TEXT(D4,"0.0")&" bcm "&" ("&TEXT(D49,"0") &" mcm/d)" -> 0.3 bcm (2 mcm/d) | E29: =TEXT(E4,"0.0")&" bcm "&" ("&TEXT(E49,"0") &" mcm/d)" -> 0.3 bcm (2 mcm/d) | G29: Biomethane | H29: =TEXT(H39,"0.0")&" TWh "&" ("&TEXT(H49,"0")&" GWh/d)" -> 3.2 TWh (18 GWh/d) | I29: =TEXT(I39,"0.0")&" TWh "&" ("&TEXT(I49,"0")&" GWh/d)" -> 3.5 TWh (19 GWh/d)
C30: Norway | D30: =TEXT(D5,"0.0")&" bcm "&" ("&TEXT(D50,"0") &" mcm/d)" -> 15.3 bcm (84 mcm/d) | E30: =TEXT(E5,"0.0")&" bcm "&" ("&TEXT(E50,"0") &" mcm/d)" -> 15.5 bcm (85 mcm/d) | G30: Norway | H30: =TEXT(H40,"0.0")&" TWh "&" ("&TEXT(H50,"0")&" GWh/d)" -> 168.6 TWh (927 GWh/d) | I30: =TEXT(I40,"0.0")&" TWh "&" ("&TEXT(I50,"0")&" GWh/d)" -> 170.8 TWh (939 GWh/d)
C31: LNG Import | D31: =TEXT(D6,"0.0")&" bcm "&" ("&TEXT(D51,"0") &" mcm/d)" -> 11.7 bcm (64 mcm/d) | E31: =TEXT(E6,"0.0")&" bcm "&" ("&TEXT(E51,"0") &" mcm/d)" -> 12.3 bcm (68 mcm/d) | G31: LNG Import | H31: =TEXT(H41,"0.0")&" TWh "&" ("&TEXT(H51,"0")&" GWh/d)" -> 129.0 TWh (709 GWh/d) | I31: =TEXT(I41,"0.0")&" TWh "&" ("&TEXT(I51,"0")&" GWh/d)" -> 135.2 TWh (743 GWh/d)
C32: Imports from continental Europe | D32: =TEXT(D7,"0.0")&" bcm "&" ("&TEXT(D52,"0") &" mcm/d)" -> 0.1 bcm (1 mcm/d) | E32: =TEXT(E7,"0.0")&" bcm "&" ("&TEXT(E52,"0") &" mcm/d)" -> 0.1 bcm (1 mcm/d) | G32: Imports from continental Europe | H32: =TEXT(H42,"0.0")&" TWh "&" ("&TEXT(H52,"0")&" GWh/d)" -> 1.1 TWh (6 GWh/d) | I32: =TEXT(I42,"0.0")&" TWh "&" ("&TEXT(I52,"0")&" GWh/d)" -> 1.1 TWh (6 GWh/d)
C33: GB storage withdrawal | D33: =TEXT(D8,"0.0")&" bcm "&" ("&TEXT(D53,"0") &" mcm/d)" -> 2.2 bcm (12 mcm/d) | E33: =TEXT(E8,"0.0")&" bcm "&" ("&TEXT(E53,"0") &" mcm/d)" -> 2.3 bcm (13 mcm/d) | G33: GB storage withdrawal | H33: =TEXT(H43,"0.0")&" TWh "&" ("&TEXT(H53,"0")&" GWh/d)" -> 24.1 TWh (132 GWh/d) | I33: =TEXT(I43,"0.0")&" TWh "&" ("&TEXT(I53,"0")&" GWh/d)" -> 25.7 TWh (141 GWh/d)
C34: Total | D34: =TEXT(D9,"0.0")&" bcm "&" ("&TEXT(D54,"0") &" mcm/d)" -> 44.5 bcm (245 mcm/d) | E34: =TEXT(E9,"0.0")&" bcm "&" ("&TEXT(E54,"0") &" mcm/d)" -> 44.8 bcm (246 mcm/d) | G34: Total | H34: =TEXT(H44,"0.0")&" TWh "&" ("&TEXT(H54,"0")&" GWh/d)" -> 490.0 TWh (2692 GWh/d) | I34: =TEXT(I44,"0.0")&" TWh "&" ("&TEXT(I54,"0")&" GWh/d)" -> 492.5 TWh (2706 GWh/d)
C37: Winter (bcm) | D37: 2025/26 Actual | E37: 2026/2027 Forecast | G37: Winter (Twh) | H37: 2025/26 Actual | I37: 2026/2027 Forecast
C38: UK Continental Shelf | D38: =D3 -> 14.90772 | E38: =E3 -> 14.2 | G38: UK Continental Shelf | H38: =D38*11 -> 163.98492 | I38: =E38*11 -> 156.2
C39: Biomethane | D39: =D4 -> 0.29067781 | E39: =E4 -> 0.31792697 | G39: Biomethane | H39: =D39*11 -> 3.197456 | I39: =E39*11 -> 3.4971967
C40: Norway | D40: =D5 -> 15.33055 | E40: =E5 -> 15.53055 | G40: Norway | H40: =D40*11 -> 168.63605 | I40: =E40*11 -> 170.83605
C41: LNG Import | D41: =D6 -> 11.725307 | E41: =E6 -> 12.28821 | G41: LNG Import | H41: =D41*11 -> 128.97838 | I41: =E41*11 -> 135.17031
C42: Imports from continental Europe | D42: =D7 -> 0.0999 | E42: =E7 -> 0.1 | G42: Imports from continental Europe | H42: =D42*11 -> 1.0989 | I42: =E42*11 -> 1.1
C43: GB storage withdrawal | D43: =D8 -> 2.18809 | E43: =E8 -> 2.3393755 | G43: GB storage withdrawal | H43: =D43*11 -> 24.06899 | I43: =E43*11 -> 25.73313
C44: Total | D44: =D9 -> 44.542245 | E44: =E9 -> 44.776062 | G44: Total | H44: =SUM(H38:H43) -> 489.9647 | I44: =SUM(I38:I43) -> 492.53669
C47: Winter(mcm/d) | D47: 2025/26 Actual | E47: 2026/2027 Forecast | G47: Winter(Gwh/d) | H47: 2025/26 Actual | I47: 2026/2027 Forecast
C48: UK Continental Shelf | D48: =(D3*1000)/182 -> 81.910549 | E48: =(E3*1000)/182 -> 78.021978 | G48: UK Continental Shelf | H48: =D48*11 -> 901.01604 | I48: =E48*11 -> 858.24176
C49: Biomethane | D49: =(D4*1000)/182 -> 1.5971308 | E49: =(E4*1000)/182 -> 1.7468515 | G49: Biomethane | H49: =D49*11 -> 17.568439 | I49: =E49*11 -> 19.215367
C50: Norway | D50: =(D5*1000)/182 -> 84.233791 | E50: =(E5*1000)/182 -> 85.332692 | G50: Norway | H50: =D50*11 -> 926.5717 | I50: =E50*11 -> 938.65962
C51: LNG Import | D51: =(D6*1000)/182 -> 64.424766 | E51: =(E6*1000)/182 -> 67.517637 | G51: LNG Import | H51: =D51*11 -> 708.67243 | I51: =E51*11 -> 742.69401
C52: Imports from continental Europe | D52: =(D7*1000)/182 -> 0.5489011 | E52: =(E7*1000)/182 -> 0.54945055 | G52: Imports from continental Europe | H52: =D52*11 -> 6.0379121 | I52: =E52*11 -> 6.043956
C53: GB storage withdrawal | D53: =(D8*1000)/182 -> 12.022473 | E53: =(E8*1000)/182 -> 12.853712 | G53: GB storage withdrawal | H53: =D53*11 -> 132.2472 | I53: =E53*11 -> 141.39083
C54: Total | D54: =(D9*1000)/182 -> 244.73761 | E54: =(E9*1000)/182 -> 246.02232 | G54: Total | H54: =SUM(H48:H53) -> 2692.1137 | I54: =SUM(I48:I53) -> 2706.2455

Sheet Peak 1-in-20 fig 3 & tab 3
A1: =HYPERLINK("#'Contents'!A1","Content Page") -> Content Page
C2: Table 3 | K2: Figure 3
C3: mcm/d | D3: 2025/26 | E3: 2026/27 | F3: %Change
C4: Non-daily metered (NDM) | D4: 311.31224 | E4: 315.34241 | F4: =(E4-D4)/D4 -> 0.012945728
C5: Daily metered (DM) and Industrial | D5: 32.985497 | E5: 31.539965 | F5: =E5/D5-1 -> -0.043823258
C6: Gas demand for electricity generation | D6: 98.423439 | E6: 104.96475 | F6: =E6/D6-1 -> 0.066460896
C7: Exports to Ireland | D7: 39.16 | E7: 39.418182 | F7: =E7/D7-1 -> 0.0065929984
C8: Total demand | D8: 481.88118 | E8: 492.50861 | F8: =E8/D8-1 -> 0.022054048
C10: Table C
C11: GWh | D11: 2025/26 | E11: 2026/27
C12: Non-daily metered (NDM) | D12: =D4*11 -> 3424.4347 | E12: =E4*11 -> 3468.7665
C13: Daily metered (DM) and Industrial | D13: =D5*11 -> 362.84046 | E13: =E5*11 -> 346.93961
C14: Gas demand for electricity generation | D14: =D6*11 -> 1082.6578 | E14: =E6*11 -> 1154.6122
C15: Exports to Ireland | D15: =D7*11 -> 430.76 | E15: =E7*11 -> 433.6
C16: Total demand | D16: =D8*11 -> 5300.6929 | E16: =E8*11 -> 5417.5947

Sheet Supply capability fig 4 & tab 4
A1: =HYPERLINK("#'Contents'!A1","Content Page") -> Content Page | G1: Table 4 | N1: Figure 4
G2: Option A: with interconnector | U2: UK Continental Shelf | V2: Biomethane | W2: Norway | X2: LNG Import | Y2: EU Import | Z2: GB Storage | AA2: Supply Capability
H3: Supply Capability | U3: =I5 -> 85.54 | V3: =I6 -> 2 | W3: =I7 -> 133.65 | X3: =I8 -> 173.97273 | Y3: =I9 -> 83.222868 | Z3: =I10 -> 113.3 | AA3: =I11 -> 591.6856
G4: mcm/d | H4: 2025/26 | I4: 2026/27 | J4: %Change
G5: UK Continental Shelf | H5: 85 | I5: 85.54 | J5: =(I5-H5)/H5 -> 0.0063529412
G6: Biomethane | I6: 2 | J6: =IFERROR((I6-H6)/H6,"0"%) -> 0
G7: Norway | H7: 135 | I7: 133.65 | J7: =(I7-H7)/H7 -> -0.01
G8: LNG import | H8: 149.97273 | I8: 173.97273 | J8: =(I8-H8)/H8 -> 0.1600291
G9: Imports from continental Europe | H9: 83 | I9: 83.222868 | J9: =(I9-H9)/H9 -> 0.0026851559
G10: GB storage withdrawal | H10: 112 | I10: 113.3 | J10: =(I10-H10)/H10 -> 0.011607143
G11: Total | H11: =SUM(H5:H10) -> 564.97273 | I11: =SUM(I5:I10) -> 591.6856 | J11: =(I11-H11)/H11 -> 0.047281695
G18: Table D
G19: Supply Capability
G20: Gwh/d | H20: 2025/26 | I20: 2026/27
G21: UK Continental Shelf | H21: =H5*11 -> 935 | I21: =I5*11 -> 940.94
G22: Biomethane | I22: =I6*11 -> 22
G23: Norway | H23: =H7*11 -> 1485 | I23: =I7*11 -> 1470.15
G24: LNG import | H24: =H8*11 -> 1649.7 | I24: =I8*11 -> 1913.7
G25: Imports from continental Europe | H25: =H9*11 -> 913 | I25: =I9*11 -> 915.45155
G26: GB storage withdrawal | H26: =H10*11 -> 1232 | I26: =I10*11 -> 1246.3
G27: Total | H27: =H11*11 -> 6214.7 | I27: =I11*11 -> 6508.5415

Sheet Supply margins tab 5 & fig 5
A1: =HYPERLINK("#'Contents'!A1","Content Page") -> Content Page
I3: Margine Option A: With interconnector
L5: Figure 5
H7: Table 5
G8: mcm/d | H8: 2025/26 | I8: 2026/27
G9: 1-in-20 peak demand | H9: ='Peak 1-in-20 fig 3 & tab 3'!D8 -> 481.88118 | I9: ='Peak 1-in-20 fig 3 & tab 3'!E8 -> 492.50861
G10: 1-in-20 non storage supply | H10: =SUM('Supply capability fig 4 & tab 4'!H5:H9) -> 452.97273 | I10: =SUM('Supply capability fig 4 & tab 4'!I5:I9) -> 478.3856
G11: 1-in-20 storage supply | H11: ='Supply capability fig 4 & tab 4'!H10 -> 112 | I11: ='Supply capability fig 4 & tab 4'!I10 -> 113.3
G12: 1-in-20 total supply | H12: ='Supply capability fig 4 & tab 4'!H11 -> 564.97273 | I12: ='Supply capability fig 4 & tab 4'!I11 -> 591.6856
G13: 1-in-20 margin | H13: =H12-H9 -> 83.09155 | I13: =I12-I9 -> 99.176988
A14: Peak demand | G14: N-1 supply loss | H14: 72.363636 | I14: 81.363636
A15: Non-daily metered (NDM) | B15: ='Peak 1-in-20 fig 3 & tab 3'!E4 -> 315.34241 | G15: N-1 margin | H15: =H13-H14 -> 10.727914 | I15: =I13-I14 -> 17.813351
A16: Daily metered (DM) and Industrial | B16: ='Peak 1-in-20 fig 3 & tab 3'!E5 -> 31.539965
A17: Gas demand for electricity generation | B17: ='Peak 1-in-20 fig 3 & tab 3'!E6 -> 104.96475
A18: Exports to Ireland | B18: ='Peak 1-in-20 fig 3 & tab 3'!E7 -> 39.418182
A19: Total Demand | B19: ='Peak 1-in-20 fig 3 & tab 3'!E8 -> 492.50861 | G19: Table E
G20: Gwh/d | H20: 2025/26 | I20: 2026/27
A21: Peak supply | G21: 1-in-20 peak demand | H21: =H9*11 -> 5300.6929 | I21: =I9*11 -> 5417.5947
B22: Total supply | C22: Supply minus largest loss | G22: 1-in-20 non storage supply | H22: =H10*11 -> 4982.7 | I22: =I10*11 -> 5262.2415
A23: UK Continental Shelf | B23: ='Supply capability fig 4 & tab 4'!I5 -> 85.54 | C23: =B23 -> 85.54 | G23: 1-in-20 storage supply | H23: =H11*11 -> 1232 | I23: =I11*11 -> 1246.3
A24: Biomethane | B24: ='Supply capability fig 4 & tab 4'!I6 -> 2 | C24: =B24 -> 2 | G24: 1-in-20 total supply | H24: =H12*11 -> 6214.7 | I24: =I12*11 -> 6508.5415
A25: Norway | B25: ='Supply capability fig 4 & tab 4'!I7 -> 133.65 | C25: =B25 -> 133.65 | G25: 1-in-20 margin | H25: =H13*11 -> 914.00705 | I25: =I13*11 -> 1090.9469
A26: LNG import | B26: ='Supply capability fig 4 & tab 4'!I8 -> 173.97273 | C26: =B26-I14 -> 92.609091 | G26: N-1 supply loss | H26: =H14*11 -> 796 | I26: =I14*11 -> 895
A27: Imports from continental Europe | B27: ='Supply capability fig 4 & tab 4'!I9 -> 83.222868 | C27: =B27 -> 83.222868 | G27: N-1 margin | H27: =H15*11 -> 118.00705 | I27: =I15*11 -> 195.94687
A28: GB storage withdrawal | B28: ='Supply capability fig 4 & tab 4'!I10 -> 113.3 | C28: =B28 -> 113.3
A29: Total | B29: =SUM(B23:B28) -> 591.6856 | C29: =SUM(C23:C28) -> 510.32196 | K29: Peak demand | L29: Peak supply | N29: Peak demand
K30: Peak demand | L30: Peak supply | M30: Peak supply - largest loss | N30: 1-in-20 peak demand
K31: 1-in-20 peak demand | N31: =I9 -> 492.50861
K33: 1-in-20 non storage supply | L33: =I10 -> 478.3856 | M33: =SUM(C23:C27) -> 397.02196
K34: 1-in-20 storage supply | L34: =I11 -> 113.3 | M34: =C28 -> 113.3
L36: =SUM(L33:L34) -> 591.6856 | M36: =SUM(M33:M34) -> 510.32196
N63: =L42-N42 -> 0

Sheet GB StorageStock fig 6 
A1: =HYPERLINK("#'Contents'!A1","Content Page") -> Content Page
A2: GB storage stock levels (mcm)
A3: Gas Day | B3: 2024/25 | C3: 2025/26
A4: 37895 | B4: 1008.9577 | C4: 965.74825 | G4: Figure 6
A5: 37896 | B5: 1009.6992 | C5: 956.962
A6: 37897 | B6: 1007.4343 | C6: 992.49701
A7: 37898 | B7: 1017.3624 | C7: 1047.0373
A8: 37899 | B8: 1138.7452 | C8: 1064.7066
A9: 37900 | B9: 1176.0079 | C9: 1091.1354
A10: 37901 | B10: 1205.8 | C10: 1114.5863
A11: 37902 | B11: 1219.3379 | C11: 1122.9755
A12: 37903 | B12: 1251.176 | C12: 1138.6914
A13: 37904 | B13: 1275.7824 | C13: 1158.2527
A14: 37905 | B14: 1273.8679 | C14: 1037.5133
A15: 37906 | B15: 1250.7056 | C15: 1190.3871
A16: 37907 | B16: 1275.3793 | C16: 1182.535
... A28: 37919 | B28: 1354.6037 | C28: 1372.0529
A29: 37920 | B29: 1367.6882 | C29: 1371.4507 | G29: % Storage Fullness Excluding Rough
A30: 37921 | B30: 1432.0701 | C30: 1356.5479
A31: 37922 | B31: 1276.5383 | C31: 1359.2214
A32: 37923 | B32: 1442.0408 | C32: 1380.1636
A33: 37924 | B33: 1455.1136 | C33: 1335.7006
A34: 37925 | B34: 1449.7755 | C34: 1310.27
A35: 37926 | B35: 1456.7006 | C35: 1315.8335
A36: 37927 | B36: 1452.5644 | C36: 1359.544
A37: 37928 | B37: 1470.17 | C37: 1388.3258
A38: 37929 | B38: 1471.2844 | C38: 1421.6239
A39: 37930 | B39: 1441.1802 | C39: 1493.4007
A40: 37931 | B40: 1406.242 | C40: 1527.557
A41: 37932 | B41: 1378.9308 | C41: 1537.6923
... A79: 37970 | B79: 1082.2682 | C79: 1307.6592
A80: 37971 | B80: =AVERAGE(B79,B81) -> 1114.7038 | C80: 1300.0257
A81: 37972 | B81: 1147.1395 | C81: 1282.5896
A82: 37973 | B82: 1147.235 | C82: 1274.7172
A83: 37974 | B83: 1167.6489 | C83: 1296.5226
A84: 37975 | B84: 1152.8505 | C84: 1309.2803
A85: 37976 | B85: 1141.6009 | C85: 1306.418
A86: 37977 | B86: 1169.5074 | C86: 1319.8099
A87: 37978 | B87: 1175.9195 | C87: 1350.6318
A88: 37979 | B88: 1150.8946 | C88: 1358.7282
A89: 37980 | B89: 1177.21 | C89: 1355.6562
A90: 37981 | B90: 1215.98 | C90: 1358.4159
A91: 37982 | B91: 1210.4367 | C91: 1342.0625
A92: 37983 | B92: 1177.4221 | C92: 1342.5016
... A193: 38085 | B193: 786 | C193: 851.47703
A194: 38086 | B194: =AVERAGE(B193,B195) -> 726 | C194: 861.3911
A195: 38087 | B195: 666 | C195: 863.06621
A196: 38088 | B196: 659.53834 | C196: 843.35561
A197: 38089 | B197: 674.49945 | C197: 842.04797
A198: 38090 | B198: 578.54693 | C198: 828.59978
A199: 38091 | B199: 749.74606 | C199: 774.92575
A200: 38092 | B200: 737.25483 | C200: 749.17203
A201: 38093 | B201: 729.45228 | C201: 747.90412
A202: 38094 | B202: 717.69954 | C202: 750.13927
A203: 38095 | B203: 692.79747 | C203: 743.00627
A204: 38096 | B204: 682.40566 | C204: 740.55384
A205: 38097 | B205: 692.47058 | C205: 716.79943
A206: 38098 | B206: 692.89643 | C206: 677.78802
... A237: 38129 | B237: 728.19071 | C237: 218.81553
A238: 38130 | B238: =AVERAGE(B237,B239) -> 714.24643 | C238: 259.53703
A239: 38131 | B239: 700.30215 | C239: 261.52216
A240: 38132 | B240: 696.13603 | C240: 266.67663
A241: 38133 | B241: 702.69641 | C241: 272.64174
A242: 38134 | B242: 689.99026 | C242: 270.70804
A243: 38135 | B243: 694.68152 | C243: 283.28793
A244: 38136 | B244: 660.99421 | C244: 302.06076
A245: 38137 | B245: 691.16674 | C245: 296.60197
A246: 38138 | B246: 711.03011 | C246: 296.5147
A247: 38139 | B247: 744.62724 | C247: 295.56849
A248: 38140 | B248: 764.63556 | C248: 277.6576
A249: 38141 | B249: 766.1959 | C249: 268.64705
A250: 38142 | B250: 768.82885 | C250: 264.94367
... A368: 38260 | B368: 1003.199 | C368: 762.56505

Sheet Cold Snaps Stocks fig 7
A1: =HYPERLINK("#'Contents'!A1","Content Page") -> Content Page | H1: Figure 7
B3: Day Before Cold Snap | C3: Opening Stock | D3: Available Capacity | E3: Deliverability | F3: % Full
B4: 43495 | C4: 1075.3241 | D4: 228.11812 | E4: 89.975078 | F4: 0.82498794
B5: 44234 | C5: 922.27261 | D5: 532.08846 | E5: 100.5608 | F5: 0.6341428
B6: 44905 | C6: 1391.3684 | D6: 75.038458 | E6: 116.92444 | F6: 0.94882835
B7: 44940 | C7: 1464.5753 | D7: 108.85733 | E7: 115.11939 | F7: 0.93081539
B8: 46026 | C8: 1238.4322 | D8: 479.48422 | E8: 105.37212 | F8: 0.720892

Sheet Peak elec gen fig 8 & tab 6
A1: =HYPERLINK("#'Contents'!A1","Content Page") -> Content Page
I2: Source:Neso
I3: Figure 8 | W3: Table 6
A4: Date | B4: Time | C4: Winter 2022/23 | D4: Winter 2023/24 | E4: Winter 2024/25 | F4: Winter 2025/26 | W4: Date | X4: mcm | Y4: Peak GW- Time | Z4: HH Peak- GW | AA4: % of electricity generated from gas
A5: D-3 | B5: 0 | C5: 16.632 | D5: 4.601 | E5: 2.224 | F5: 2.473 | W5: 45261 | X5: 102.57527 | Y5: 0.75 | Z5: 26.523 | AA5: 0.58828879
B6: 0.020833333 | C6: 16.695 | D6: 4.894 | E6: 2.224 | F6: 3.008 | W6: 45638 | X6: 107.44576 | Y6: 0.33333333 | Z6: 27.868 | AA6: 0.67080686
B7: 0.041666667 | C7: 16.566 | D7: 4.775 | E7: 2.224 | F7: 3.123 | W7: 46027 | X7: 103.07 | Y7: 0.375 | Z7: 26.059 | AA7: 0.53597285
B8: 0.0625 | C8: 16.365 | D8: 4.697 | E8: 2.223 | F8: 2.824
B9: 0.083333333 | C9: 16.301 | D9: 4.77 | E9: 2.223 | F9: 2.209
B10: 0.10416667 | C10: 16.276 | D10: 4.955 | E10: 2.223 | F10: 2.341
B11: 0.125 | C11: 16.282 | D11: 5.211 | E11: 2.224 | F11: 2.292
B12: 0.14583333 | C12: 16.189 | D12: 5.415 | E12: 2.282 | F12: 2.076
B13: 0.16666667 | C13: 16.383 | D13: 5.575 | E13: 2.355 | F13: 2.544
B14: 0.1875 | C14: 16.617 | D14: 5.379 | E14: 2.468 | F14: 2.935
B15: 0.20833333 | C15: 17.296 | D15: 7.068 | E15: 2.792 | F15: 3.128
B16: 0.22916667 | C16: 18.117 | D16: 9.11 | E16: 3.333 | F16: 3.303
B17: 0.25 | C17: 19.288 | D17: 13.35 | E17: 4.551 | F17: 3.786
B18: 0.27083333 | C18: 20.329 | D18: 17.573 | E18: 7.056 | F18: 4.296
B19: 0.29166667 | C19: 21.266 | D19: 20.474 | E19: 10.394 | F19: 4.234
... B52: 0.97916667 | C52: 16.846 | D52: 10.509 | E52: 6.191 | F52: 5.042
A53: D-2 | B53: 0 | C53: 16.778 | D53: 9.672 | E53: 6.429 | F53: 4.584
B54: 0.020833333 | C54: 16.818 | D54: 9.461 | E54: 6.567 | F54: 4.419
B55: 0.041666667 | C55: 16.714 | D55: 8.307 | E55: 6.664 | F55: 4.134
B56: 0.0625 | C56: 16.482 | D56: 8.168 | E56: 6.39 | F56: 4.046
B57: 0.083333333 | C57: 16.371 | D57: 8.15 | E57: 6.185 | F57: 4.273
B58: 0.10416667 | C58: 16.288 | D58: 8.762 | E58: 6.153 | F58: 4.122
B59: 0.125 | C59: 16.263 | D59: 9.134 | E59: 5.813 | F59: 4.374
B60: 0.14583333 | C60: 16.138 | D60: 9.268 | E60: 5.638 | F60: 3.919
B61: 0.16666667 | C61: 16.282 | D61: 10.277 | E61: 5.88 | F61: 4.039
B62: 0.1875 | C62: 16.183 | D62: 10.61 | E62: 5.93 | F62: 4.156
B63: 0.20833333 | C63: 17.011 | D63: 12.074 | E63: 7.87 | F63: 3.531
B64: 0.22916667 | C64: 16.99 | D64: 13.565 | E64: 9.816 | F64: 3.801
B65: 0.25 | C65: 17.445 | D65: 15.717 | E65: 15.81 | F65: 3.429
... B100: 0.97916667 | C100: 16.879 | D100: 20.193 | E100: 20.598 | F100: 3.081
A101: D-1 | B101: 0 | C101: 16.761 | D101: 20.217 | E101: 20.886 | F101: 3.216
B102: 0.020833333 | C102: 17.404 | D102: 20.431 | E102: 21 | F102: 3.596
B103: 0.041666667 | C103: 17.434 | D103: 20.207 | E103: 20.927 | F103: 3.635
B104: 0.0625 | C104: 17.316 | D104: 19.518 | E104: 20.722 | F104: 3.163
B105: 0.083333333 | C105: 17.006 | D105: 18.839 | E105: 20.647 | F105: 2.612
B106: 0.10416667 | C106: 16.349 | D106: 18.401 | E106: 20.551 | F106: 2.355
B107: 0.125 | C107: 16.159 | D107: 17.825 | E107: 20.582 | F107: 2.38
B108: 0.14583333 | C108: 16.1 | D108: 17.556 | E108: 20.523 | F108: 2.304
B109: 0.16666667 | C109: 16.201 | D109: 18.6 | E109: 20.717 | F109: 2.404
B110: 0.1875 | C110: 16.246 | D110: 18.67 | E110: 20.957 | F110: 2.436
B111: 0.20833333 | C111: 16.031 | D111: 19.594 | E111: 21.797 | F111: 2.427
B112: 0.22916667 | C112: 16.141 | D112: 20.538 | E112: 22.652 | F112: 2.406
B113: 0.25 | C113: 16.788 | D113: 21.49 | E113: 24.019 | F113: 2.817
... B148: 0.97916667 | C148: 21.381 | D148: 22.099 | E148: 23.315 | F148: 15.311
A149: D | B149: 0 | C149: 21.181 | D149: 21.656 | E149: 23.269 | F149: 15.373
B150: 0.020833333 | C150: 21.579 | D150: 21.953 | E150: 23.377 | F150: 15.553
B151: 0.041666667 | C151: 21.429 | D151: 21.842 | E151: 23.37 | F151: 15.414
B152: 0.0625 | C152: 21.142 | D152: 21.584 | E152: 23.185 | F152: 15.273
B153: 0.083333333 | C153: 20.982 | D153: 21.45 | E153: 22.824 | F153: 15.628
B154: 0.10416667 | C154: 20.849 | D154: 21.296 | E154: 22.849 | F154: 15.517
B155: 0.125 | C155: 20.761 | D155: 21.326 | E155: 22.998 | F155: 15.487
B156: 0.14583333 | C156: 20.574 | D156: 21.207 | E156: 22.9 | F156: 15.574
B157: 0.16666667 | C157: 20.659 | D157: 21.368 | E157: 23.037 | F157: 15.892
B158: 0.1875 | C158: 20.773 | D158: 21.474 | E158: 23.57 | F158: 16.44
B159: 0.20833333 | C159: 21.321 | D159: 22.109 | E159: 24.102 | F159: 17.458
B160: 0.22916667 | C160: 22.004 | D160: 22.75 | E160: 24.67 | F160: 17.756
B161: 0.25 | C161: 23.045 | D161: 23.825 | E161: 25.078 | F161: 18.747
... B196: 0.97916667 | C196: 19.822 | D196: 20.615 | E196: 22.708 | F196: 22.395
A197: D+1 | B197: 0 | C197: 19.919 | D197: 20.619 | E197: 22.681 | F197: 22.551
B198: 0.020833333 | C198: 20.136 | D198: 20.674 | E198: 22.67 | F198: 22.855
B199: 0.041666667 | C199: 20.2 | D199: 20.843 | E199: 22.407 | F199: 22.959
B200: 0.0625 | C200: 20.135 | D200: 20.709 | E200: 22.07 | F200: 23.019
B201: 0.083333333 | C201: 20.207 | D201: 20.349 | E201: 22.208 | F201: 23.181
B202: 0.10416667 | C202: 20.315 | D202: 20.037 | E202: 21.628 | F202: 23.504
B203: 0.125 | C203: 20.468 | D203: 19.993 | E203: 22.009 | F203: 23.684
B204: 0.14583333 | C204: 20.52 | D204: 19.847 | E204: 21.839 | F204: 23.74
B205: 0.16666667 | C205: 21.308 | D205: 20.09 | E205: 21.431 | F205: 23.706
B206: 0.1875 | C206: 21.026 | D206: 19.671 | E206: 21.48 | F206: 23.583
B207: 0.20833333 | C207: 21.415 | D207: 20.021 | E207: 22.305 | F207: 24.182
B208: 0.22916667 | C208: 20.861 | D208: 20.259 | E208: 23.405 | F208: 24.37
B209: 0.25 | C209: 20.323 | D209: 20.916 | E209: 24.58 | F209: 24.72
... B244: 0.97916667 | C244: 18.888 | D244: 12.568 | E244: 15.011 | F244: 7.748
A245: D+2 | B245: 0 | C245: 18.316 | D245: 12.106 | E245: 14.366 | F245: 7.734
B246: 0.020833333 | C246: 18.485 | D246: 11.922 | E246: 13.661 | F246: 7.996
B247: 0.041666667 | C247: 18.115 | D247: 11.889 | E247: 12.924 | F247: 7.635
B248: 0.0625 | C248: 17.801 | D248: 11.395 | E248: 11.81 | F248: 6.957
B249: 0.083333333 | C249: 17.506 | D249: 10.95 | E249: 11.461 | F249: 6.545
B250: 0.10416667 | C250: 17.375 | D250: 10.818 | E250: 11.116 | F250: 6.627
B251: 0.125 | C251: 17.424 | D251: 10.587 | E251: 10.323 | F251: 6.862
B252: 0.14583333 | C252: 17.286 | D252: 9.883 | E252: 9.803 | F252: 7.08
B253: 0.16666667 | C253: 17.749 | D253: 9.742 | E253: 9.702 | F253: 7.031
B254: 0.1875 | C254: 17.656 | D254: 9.324 | E254: 9.485 | F254: 6.969
B255: 0.20833333 | C255: 18.436 | D255: 9.369 | E255: 9.82 | F255: 7.852
B256: 0.22916667 | C256: 18.849 | D256: 9.151 | E256: 10.067 | F256: 9.408
B257: 0.25 | C257: 19.965 | D257: 10.102 | E257: 10.851 | F257: 11.867
... B292: 0.97916667 | C292: 17.495 | D292: 6.084 | E292: 2.781 | F292: 16.22
A293: D+3 | B293: 0 | C293: 17.558 | D293: 6.227 | E293: 3.051 | F293: 15.801
B294: 0.020833333 | C294: 17.887 | D294: 6.36 | E294: 3.17 | F294: 16.277
B295: 0.041666667 | C295: 16.983 | D295: 6.067 | E295: 3.419 | F295: 16.713
B296: 0.0625 | C296: 16.287 | D296: 5.328 | E296: 3.239 | F296: 16.825
B297: 0.083333333 | C297: 15.656 | D297: 5.024 | E297: 3.24 | F297: 16.817
B298: 0.10416667 | C298: 15.535 | D298: 4.701 | E298: 3.128 | F298: 16.932
B299: 0.125 | C299: 15.929 | D299: 4.917 | E299: 3.336 | F299: 16.669
B300: 0.14583333 | C300: 16.465 | D300: 4.754 | E300: 3.059 | F300: 16.502
B301: 0.16666667 | C301: 17.68 | D301: 5.554 | E301: 3.206 | F301: 16.117
B302: 0.1875 | C302: 18.029 | D302: 5.213 | E302: 3.239 | F302: 16.557
...

Sheet Peak gas demand for power fig 9
A1: =HYPERLINK("#'Contents'!A1","Content Page") -> Content Page
D2: D-3 | E2: D-2 | F2: D-1 | G2: D | H2: D+1 | I2: D+2 | J2: D+3
C3: Winter 2022/23 | D3: 90.52036 | E3: 88.08507 | F3: 94.25667 | G3: 100.80098 | H3: 95.60842 | I3: 90.69101 | J3: 93.97375
C4: Winter 2023/24 | D4: 73.94818 | E4: 92.38447 | F4: 102.40204 | G4: 102.57527 | H4: 84.23322 | I4: 60.85176 | J4: 63.48098
C5: Winter 2024/25 | D5: 51.937056 | E5: 91.460015 | F5: 105.77121 | G5: 107.44576 | H5: 93.391612 | I5: 39.190419 | J5: 18.276956
C6: Winter 2025/26 | D6: 23.13 | E6: 23.38 | F6: 60.63 | G6: 103.07 | H6: 80.72 | I6: 77.91 | J6: 81.95
D10: Figure 9

Sheet UKCS fields tab 7
A1: =HYPERLINK("#'Contents'!A1","Content Page") -> Content Page | C1: Table 7
C3: Terminals | D3: Fileds
C4: St Fergus | D4: Rhum, Britannia, Pierce, Arran, Brodgar, Alwyn North, Victory
C5: Teeside | D5: Culzean, Breagh, Everest, Judy, Erskine, Jade
C6: Easington | D6: Tolmount
C7: Bacton | D7: Elgin, Franklin, Cygnus, Shearweater, Leman
C9: Barrow | D9: South Morecambe

Sheet Map terminals Fig 10
A1: =HYPERLINK("#'Contents'!A1","Content Page") -> Content Page | D1: Source: National Gas | F1: Figure 10
A5: Terminal | B5: 5 Year Average Share of UKCS Flows % | C5: Average Flows mcm/d | D5: Peak Flows mcm/d
A6: St Fergus | B6: 0.39 | C6: 30.730563 | D6: 33.872872
A7: Teesside | B7: 0.3 | C7: 23.489023 | D7: 25.890858
A8: Easington | B8: 0.1 | C8: 7.9364013 | D8: 8.7479263
A9: Bacton | B9: 0.18 | C9: 13.692847 | D9: 15.092989
A10: Barrow | B10: 0.03 | C10: 2.0437085 | D10: 2.2526849

Sheet GB delivered LNG fig 11
A1: =HYPERLINK("#'Contents'!A1","Content Page") -> Content Page | C1: Source: LNG Journal
C3: Units: bcm | G3: Figure 11
C4: Country | D4: 2024/25 | E4: 2025/26
C5: US | D5: 7.8246 | E5: 9.2184
C6: Qatar | D6: 0.4278 | E6: 0.5796
C7: Other | D7: 2.1942 | E7: 1.656
C9: Units: %share
C10: Country | D10: 2024/25 | E10: 2025/26
C11: US | D11: 0.74900925 | E11: 0.81
C12: Qatar | D12: 0.040951123 | E12: 0.05060241
C13: Other | D13: 0.21003963 | E13: 0.14457831
C24: Country | D24: 2024/25 | E24: 2025/26
C25: US | D25: 7.8246 | E25: 9.2184
C26: Other | D26: 2.1942 | E26: 1.656
C27: Qatar | D27: 0.4278 | E27: 0.5796
C42: US | D42: =_xlfn.CONCAT(ROUND(D25,1), " ", "bcm") -> 7.8 bcm
C43: Other | D43: =_xlfn.CONCAT(ROUND(D26,1), " ", "bcm") -> 2.2 bcm
C44: Qatar | D44: =_xlfn.CONCAT(ROUND(D27,1), " ", "bcm") -> 0.4 bcm
C46: US | D46: =_xlfn.CONCAT(ROUND(E25,1), " ", "bcm") -> 9.2 bcm
C47: Other | D47: =_xlfn.CONCAT(ROUND(E26,1), " ", "bcm") -> 1.7 bcm
C48: Qatar | D48: =_xlfn.CONCAT(ROUND(E27,1), " ", "bcm") -> 0.6 bcm

Sheet LNG liquefaction cap Fig 12
A1: =HYPERLINK("#'Contents'!A1","Content Page") -> Content Page | K1: Source: IEA
C3: Units: (bcm/yr) | K3: Figure 12
C4: Country | D4: 2025 | E4: 2026 | F4: 2027 | G4: 2028 | H4: 2029 | I4: 2030
C5: United Arab Emirates | D5: 0 | E5: 0 | F5: 0 | G5: 3.3 | H5: 9.8 | I5: 0
C6: United States | D6: 20.4 | E6: 20.1 | F6: 27.8 | G6: 48.4 | H6: 34.1 | I6: 20.9
C7: Other | D7: 2.4 | E7: 4.5 | F7: 2.5 | G7: 7.4 | H7: 4.7 | I7: 0
C8: Qatar | D8: 0 | E8: 0 | F8: 8.2 | G8: 25.9 | H8: 24.5 | I8: 6.8
C9: Mexico | D9: 1.5 | E9: 0.9 | F9: 3.5 | G9: 0 | H9: 0 | I9: 0
C10: Mozambique | D10: 0 | E10: 0 | F10: 0 | G10: 1.8 | H10: 5.3 | I10: 15.3
C11: Nigeria | D11: 0 | E11: 0 | F11: 4.1 | G11: 6.8 | H11: 0 | I11: 0
C12: Australia | D12: 0 | E12: 1.4 | F12: 5.4 | G12: 0 | H12: 0 | I12: 0
C13: Canada | D13: 3.7 | E13: 14.8 | F13: 0.5 | G13: 1.1 | H13: 6 | I13: 0.2
C14: Total | D14: =SUM(D5:D13) -> 28 | E14: =SUM(E5:E13) -> 41.7 | F14: =SUM(F5:F13) -> 52 | G14: =SUM(G5:G13) -> 94.7 | H14: =SUM(H5:H13) -> 84.4 | I14: =SUM(I5:I13) -> 43.2

Sheet NPB-TFF fig 13
A1: =HYPERLINK("#'Contents'!A1","Content Page") -> Content Page | B1: Source: Argus, ICE
H2: Figure 13
A3: Units: p/th
A5: Month | B5: Future Monthly Contracts as of 27/02/2026 | C5: Future Monthly Contracts as of 30/09/2026 | D5: Import/Export Tariff Threshold | E5: Column2 | T5: TTF 27/07/26 | U5: TTF 27/02/2026 | X5: 46080 | Y5: 46235 | Z5: Import/Export Tariff Threshold
A6: October | B6: -3.0244 | C6: -1.495 | D6: 4.84 | E6: -2.08 | T6: 58.21 | U6: 31.47 | W6: October | X6: 76.28 | Y6: 142.12 | Z6: -2.4 | AA6: 4.2
A7: November | B7: 0.2708 | C7: 1.491 | D7: 4.84 | E7: -2.08 | T7: 57.43 | U7: 31.71 | W7: November | X7: 80.18 | Y7: 145.52 | Z7: -2.4 | AA7: 4.2
A8: December | B8: 2.344 | C8: 3.755 | D8: 4.84 | E8: -2.08 | T8: 57.1 | U8: 31.8 | W8: December | X8: 82.48 | Y8: 146.65 | Z8: -2.4 | AA8: 4.2
A9: January | B9: 3.468 | C9: 4.984 | D9: 4.84 | E9: -2.08 | T9: 56.53 | U9: 31.85 | W9: January | X9: 83.73 | Y9: 146.55 | Z9: -2.4 | AA9: 4.2
A10: February | B10: 3.9252 | C10: 4.426 | D10: 4.84 | E10: -2.08 | T10: 55.06 | U10: 31.49 | W10: February | X10: 83.28 | Y10: 141.33 | Z10: -2.4 | AA10: 4.2
A11: March | B11: 1.6672 | C11: -0.523 | D11: 4.84 | E11: -2.08 | T11: 51.09 | U11: 30.39 | W11: March | X11: 78.25 | Y11: 127.96 | Z11: -2.4 | AA11: 4.2
T14: =T6*2.52 -> 146.6892 | U14: =U6*2.52 -> 79.3044
T15: =T7*2.52 -> 144.7236 | U15: =U7*2.52 -> 79.9092
T16: =T8*2.52 -> 143.892 | U16: =U8*2.52 -> 80.136
T17: =T9*2.52 -> 142.4556 | U17: =U9*2.52 -> 80.262
T18: =T10*2.52 -> 138.7512 | U18: =U10*2.52 -> 79.3548
T19: =T11*2.52 -> 128.7468 | U19: =U11*2.52 -> 76.5828

Sheet EUStorage Stocks fig 14 & tab 8
A1: =HYPERLINK("#'Contents'!A1","Content Page") -> Content Page | L1: Figure 14
D2: Table 8
D3: (bcm) | E3: Demand | F3: Unused LNG Capacity (existing) | G3: Storage Stocks remaining
D4: Avg Winter | E4: 222.33463 | F4: 41.268516 | G4: =J18 -> 34.748851
D5: Cold Winter - LNG Primary responder | E5: 255.68482 | F5: 17.02974 | G5: =J19 -> 26.153519
D6: Cold Winter - Balanced Response | E6: 255.68482 | F6: 19.893965 | G6: =J20 -> 20.01841
D10: Start
E11: Oct | F11: Nov | G11: Dec | H11: Jan | I11: Feb | J11: Mar
C12: 10-year min | D12: 68.9911 | E12: 76.059591 | F12: 68.808782 | G12: 54.208136 | H12: 38.2022 | I12: 29.186845 | J12: 17.6715
C13: 10-year max | D13: 98.991164 | E13: 102.88182 | F13: 103.24819 | G13: 98.2311 | H13: 90.449573 | I13: 73.231527 | J13: 64.567764
C14: 10-year range | D14: =D13-D12 -> 30.000064 | E14: =E13-E12 -> 26.822227 | F14: =F13-F12 -> 34.439409 | G14: =G13-G12 -> 44.022964 | H14: =H13-H12 -> 52.247373 | I14: =I13-I12 -> 44.044682 | J14: =J13-J12 -> 46.896264
D16: Gas in Stock
D17: Start | E17: Oct | F17: Nov | G17: Dec | H17: Jan | I17: Feb | J17: Mar
C18: Avg Winter | D18: 71.922289 | E18: 80.358141 | F18: 78.57041 | G18: 67.281496 | H18: 52.502628 | I18: 40.651995 | J18: 34.748851
C19: Cold Winter | D19: 71.922289 | E19: 77.398411 | F19: 73.515292 | G19: 61.420001 | H19: 46.941827 | I19: 33.482047 | J19: 26.153519
C20: Cold Winter - Balanced Response | D20: 71.922289 | E20: 77.398411 | F20: 72.54911 | G20: 56.245869 | H20: 41.078315 | I20: 29.406383 | J20: 20.01841
D22: Start | E22: Oct | F22: Nov | G22: Dec | H22: Jan | I22: Feb | J22: Mar
C23: Winter 2025/26 Actual (monthly Avg) | D23: 83.500964 | E23: 85.955258 | F23: 83.636408 | G23: 71.271304 | H23: 52.956765 | I23: 35.375542 | J23: 29.984085

Sheet Scenario 1 fig 15 tab 9-11
A1: =HYPERLINK("#'Contents'!A1","Content Page") -> Content Page | B1: Gas Day | C1: GB & Moffat demand | D1: UKCS | E1: Norway | F1: LNG Import | G1: GB Storage withdrawal | H1: GB Storage injection | I1: NTS demand | J1: Imports from continental Europe | K1: Exports to continental Europe
B2: 46296 | C2: 143.69 | D2: 84.45 | E2: 30.46 | F2: 40 | G2: 18.78 | H2: 0 | I2: 173.69 | J2: 0 | K2: -30
B3: 46297 | C3: 174.47 | D3: 80.4 | E3: 64.73 | F3: 40 | G3: 19.34 | H3: 0 | I3: 204.47 | J3: 0 | K3: -30 | N3: Figure 15
B4: 46298 | C4: 178.44 | D4: 81.86 | E4: 77.02 | F4: 40 | G4: 9.56 | H4: 0 | I4: 208.44 | J4: 0 | K4: -30
B5: 46299 | C5: 150.84 | D5: 73.67 | E5: 49.06 | F5: 40 | G5: 18.11 | H5: 0 | I5: 180.84 | J5: 0 | K5: -30
B6: 46300 | C6: 138.67 | D6: 75.51 | E6: 59.06 | F6: 40 | G6: 0 | H6: 5.9 | I6: 174.57 | J6: 0 | K6: -30
B7: 46301 | C7: 123.49 | D7: 78.35 | E7: 69.89 | F7: 31.83 | G7: 0 | H7: 26.57 | I7: 180.06 | J7: 0 | K7: -30
B8: 46302 | C8: 149.07 | D8: 83.07 | E8: 74.34 | F8: 38.52 | G8: 0 | H8: 16.85 | I8: 195.92 | J8: 0 | K8: -30
B9: 46303 | C9: 136.36 | D9: 83.79 | E9: 77.35 | F9: 31.81 | G9: 0 | H9: 26.59 | I9: 192.95 | J9: 0 | K9: -30
B10: 46304 | C10: 139.18 | D10: 84.37 | E10: 71.05 | F10: 35.29 | G10: 0 | H10: 21.54 | I10: 190.72 | J10: 0 | K10: -30
B11: 46305 | C11: 125.07 | D11: 83.53 | E11: 75.73 | F11: 27.97 | G11: 0 | H11: 32.16 | I11: 187.23 | J11: 0 | K11: -30
B12: 46306 | C12: 120.44 | D12: 83.27 | E12: 73.54 | F12: 15.47 | G12: 0 | H12: 21.84 | I12: 172.28 | J12: 0 | K12: -30
B13: 46307 | C13: 160.46 | D13: 84.39 | E13: 64.36 | F13: 40 | G13: 1.71 | H13: 0 | I13: 190.46 | J13: 0 | K13: -30
B14: 46308 | C14: 170.11 | D14: 84.06 | E14: 77.22 | F14: 40 | G14: 0 | H14: 1.17 | I14: 201.28 | J14: 0 | K14: -30
B15: 46309 | C15: 192.36 | D15: 83.69 | E15: 78.52 | F15: 40 | G15: 20.14 | H15: 0 | I15: 222.36 | J15: 0 | K15: -30
... B35: 46329 | C35: 200.71 | D35: 77.29 | E35: 71.03 | F35: 80.65 | G35: 0 | H35: 28.27 | I35: 228.98 | J35: 0 | K35: 0
B36: 46330 | C36: 219.27 | D36: 79.38 | E36: 78.52 | F36: 84.32 | G36: 0 | H36: 22.95 | I36: 242.22 | J36: 0 | K36: 0 | O36: Table 9 | W36: Table 10
B37: 46331 | C37: 239.97 | D37: 80.77 | E37: 77.17 | F37: 90 | G37: 0 | H37: 7.97 | I37: 247.94 | J37: 0 | K37: 0 | O37: Demand Breakdown | P37: Scenario | Q37: Winter Outlook Forecast | W37: Supply Breakdown | X37: Scenario | Y37: Winter Outlook Forecast
B38: 46332 | C38: 271.78 | D38: 78.88 | E38: 76.78 | F38: 90 | G38: 26.12 | H38: 0 | I38: 271.78 | J38: 0 | K38: 0 | O38: Non-daily metered (NDM) | P38: 27.120583 | Q38: ='Gas demand fig 1 & tab 1'!F3 -> 26.445739 | W38: UK Continental Shelf | X38: =AC38/1000 -> 14.16234 | Y38: 14.2 | AB38: UKCS | AC38: =SUM(D2:D183) -> 14162.34
B39: 46333 | C39: 225.9 | D39: 79.28 | E39: 71.99 | F39: 89.73 | G39: 0 | H39: 15.1 | I39: 241 | J39: 0 | K39: 0 | O39: Daily metered (DM) and Industrial | P39: 3.7162775 | Q39: ='Gas demand fig 1 & tab 1'!F4 -> 3.6882562 | W39: Norway | X39: =AC39/1000 -> 15.58937 | Y39: 15.53055 | AB39: Norway | AC39: =SUM(E2:E183) -> 15589.37
B40: 46334 | C40: 260.34 | D40: 78.46 | E40: 77.38 | F40: 90 | G40: 14.5 | H40: 0 | I40: 260.34 | J40: 0 | K40: 0 | O40: Gas demand for electircity generation | P40: 7.6120909 | Q40: ='Gas demand fig 1 & tab 1'!F5 -> 7.6034955 | W40: LNG Import | X40: =AC40/1000 -> 12.66491 | Y40: 12.06821 | AB40: LNG | AC40: =SUM(F2:F183) -> 12664.91
B41: 46335 | C41: 275.27 | D41: 77.88 | E41: 76.75 | F41: 90 | G41: 30.64 | H41: 0 | I41: 275.27 | J41: 0 | K41: 0 | O41: Exports to Ireland | P41: 3.3442551 | Q41: ='Gas demand fig 1 & tab 1'!F7 -> 3.309801 | W41: Imports from continental Europe | X41: =AC41/1000 -> 0 | Y41: 0.1 | AB41: IUK/BBL | AC41: =SUM(J2:J183) -> 0
B42: 46336 | C42: 257.74 | D42: 78.59 | E42: 76.48 | F42: 90 | G42: 12.66 | H42: 0 | I42: 257.74 | J42: 0 | K42: 0 | O42: Exports to continental Europe | P42: 1.395 | Q42: ='Gas demand fig 1 & tab 1'!F8 -> 1.3726968 | S42: IUK | T42: =SUMIF(K2:K183,"<0")*-1 -> 1395 | U42: =T42/1000 -> 1.395 | W42: GB Storage Withdrawal | X42: =(AC42/1000) -> 2.45353 | Y42: 2.3393755 | AB42: Storage | AC42: =SUM(G2:G183) -> 2453.53
B43: 46337 | C43: 248.94 | D43: 82.21 | E43: 83.47 | F43: 90 | G43: 0 | H43: 6.74 | I43: 255.68 | J43: 0 | K43: 0 | O43: GB Storage Injection | P43: 1.68196 | Q43: ='Gas demand fig 1 & tab 1'!F9 -> 2.1330467 | S43: Injection | T43: =SUM(H2:H183) -> 1681.96 | U43: =T43/1000 -> 1.68196 | W43: Total | X43: =SUM(X38:X42) -> 44.87015 | Y43: =SUM(Y38:Y42) -> 44.238136
B44: 46338 | C44: 258.35 | D44: 79.98 | E44: 83.16 | F44: 90 | G44: 5.21 | H44: 0 | I44: 258.35 | J44: 0 | K44: 0 | O44: Total | P44: =SUM(P38:P43) -> 44.870167 | Q44: =SUM(Q38:Q43) -> 44.553035
B45: 46339 | C45: 277.15 | D45: 79.33 | E45: 81.45 | F45: 90 | G45: 26.38 | H45: 0 | I45: 277.15 | J45: 0 | K45: 0
B46: 46340 | C46: 273.58 | D46: 81.16 | E46: 80.08 | F46: 90 | G46: 22.34 | H46: 0 | I46: 273.58 | J46: 0 | K46: 0
B47: 46341 | C47: 263.05 | D47: 82.13 | E47: 85.67 | F47: 90 | G47: 5.25 | H47: 0 | I47: 263.05 | J47: 0 | K47: 0
B48: 46342 | C48: 289.63 | D48: 82.45 | E48: 106.07 | F48: 90 | G48: 11.11 | H48: 0 | I48: 289.63 | J48: 0 | K48: 0
B49: 46343 | C49: 275.26 | D49: 80.12 | E49: 82.49 | F49: 90 | G49: 22.65 | H49: 0 | I49: 275.26 | J49: 0 | K49: 0
B50: 46344 | C50: 319.97 | D50: 78.88 | E50: 90 | F50: 109.93 | G50: 41.16 | H50: 0 | I50: 319.97 | J50: 0 | K50: 0
B51: 46345 | C51: 330.39 | D51: 82.34 | E51: 94.33 | F51: 114.17 | G51: 39.55 | H51: 0 | I51: 330.39 | J51: 0 | K51: 0
B52: 46346 | C52: 293.92 | D52: 85.04 | E52: 104.54 | F52: 90 | G52: 14.34 | H52: 0 | I52: 293.92 | J52: 0 | K52: 0
B53: 46347 | C53: 277.1 | D53: 82.15 | E53: 96.15 | F53: 90 | G53: 8.81 | H53: 0 | I53: 277.1 | J53: 0 | K53: 0
B54: 46348 | C54: 244.23 | D54: 78.9 | E54: 92.64 | F54: 83.05 | G54: 0 | H54: 10.36 | I54: 254.59 | J54: 0 | K54: 0 | M54: Table 11
B55: 46349 | C55: 237.13 | D55: 81.72 | E55: 88.94 | F55: 80.4 | G55: 0 | H55: 13.93 | I55: 251.06 | J55: 0 | K55: 0 | N55: 46408 | O55: 46451
B56: 46350 | C56: 232.26 | D56: 81.96 | E56: 94.72 | F56: 75.96 | G56: 0 | H56: 20.38 | I56: 252.64 | J56: 0 | K56: 0 | M56: Supply Breakdown | N56: Peak | O56: High Storage
B57: 46351 | C57: 236.2 | D57: 77.45 | E57: 95.29 | F57: 79.17 | G57: 0 | H57: 15.71 | I57: 251.91 | J57: 0 | K57: 0 | M57: UK Continental Shelf | N57: =_xlfn.XLOOKUP($N$55,$B$2:$B$183,D$2:D$183) -> 71.93 | O57: =_xlfn.XLOOKUP($O$55,$B$2:$B$183,D$2:D$183) -> 80.89
B58: 46352 | C58: 210.69 | D58: 76.49 | E58: 97.21 | F58: 68.37 | G58: 0 | H58: 31.39 | I58: 242.08 | J58: 0 | K58: 0 | M58: Norway | N58: =_xlfn.XLOOKUP($N$55,$B$2:$B$183,E$2:E$183) -> 91.96 | O58: =_xlfn.XLOOKUP($O$55,$B$2:$B$183,E$2:E$183) -> 90
B59: 46353 | C59: 226.57 | D59: 74.98 | E59: 87.36 | F59: 79.49 | G59: 0 | H59: 15.26 | I59: 241.83 | J59: 0 | K59: 0 | M59: LNG Import | N59: =_xlfn.XLOOKUP($N$55,$B$2:$B$183,F$2:F$183) -> 119.68 | O59: =_xlfn.XLOOKUP($O$55,$B$2:$B$183,F$2:F$183) -> 107.37
B60: 46354 | C60: 229.36 | D60: 75.43 | E60: 92.25 | F60: 78.45 | G60: 0 | H60: 16.77 | I60: 246.13 | J60: 0 | K60: 0 | M60: Imports from continental Europe | N60: =_xlfn.XLOOKUP($N$55,$B$2:$B$183,J$2:J$183) -> 0 | O60: =_xlfn.XLOOKUP($O$55,$B$2:$B$183,J$2:J$183) -> 0
B61: 46355 | C61: 271.57 | D61: 70.47 | E61: 95.76 | F61: 90 | G61: 15.34 | H61: 0 | I61: 271.57 | J61: 0 | K61: 0 | M61: GB Storage Withdrawal | N61: =_xlfn.XLOOKUP($N$55,$B$2:$B$183,G$2:G$183) -> 53.54 | O61: =_xlfn.XLOOKUP($O$55,$B$2:$B$183,G$2:G$183) -> 63
B62: 46356 | C62: 304.79 | D62: 73.32 | E62: 95.78 | F62: 98.09 | G62: 37.6 | H62: 0 | I62: 304.79 | J62: 0 | K62: 0 | M62: Demand | N62: =_xlfn.XLOOKUP($N$55,$B$2:$B$183,I$2:I$183) -> 337.11 | O62: =_xlfn.XLOOKUP($O$55,$B$2:$B$183,I$2:I$183) -> 341.26
B63: 46357 | C63: 304.35 | D63: 74.68 | E63: 97.05 | F63: 97.53 | G63: 35.09 | H63: 0 | I63: 304.35 | J63: 0 | K63: 0
B64: 46358 | C64: 331.46 | D64: 75.33 | E64: 90 | F64: 113.33 | G64: 52.79 | H64: 0 | I64: 331.46 | J64: 0 | K64: 0
B65: 46359 | C65: 308.72 | D65: 77.06 | E65: 90 | F65: 102.23 | G65: 39.43 | H65: 0 | I65: 308.72 | J65: 0 | K65: 0
B66: 46360 | C66: 294.16 | D66: 77.57 | E66: 90 | F66: 91.74 | G66: 34.85 | H66: 0 | I66: 294.16 | J66: 0 | K66: 0
B67: 46361 | C67: 252.37 | D67: 78.21 | E67: 81.58 | F67: 90 | G67: 2.58 | H67: 0 | I67: 252.37 | J67: 0 | K67: 0
B68: 46362 | C68: 208 | D68: 81.63 | E68: 81 | F68: 71.79 | G68: 0 | H68: 26.43 | I68: 234.43 | J68: 0 | K68: 0
B69: 46363 | C69: 208.35 | D69: 77.33 | E69: 85.45 | F69: 71.87 | G69: 0 | H69: 26.3 | I69: 234.65 | J69: 0 | K69: 0
B70: 46364 | C70: 213.38 | D70: 74 | E70: 87.86 | F70: 74.3 | G70: 0 | H70: 22.79 | I70: 236.17 | J70: 0 | K70: 0
B71: 46365 | C71: 250.6 | D71: 72.27 | E71: 88.6 | F71: 89.89 | G71: 0 | H71: 0.16 | I71: 250.76 | J71: 0 | K71: 0
B72: 46366 | C72: 244.41 | D72: 76.42 | E72: 90.88 | F72: 84.74 | G72: 0 | H72: 7.63 | I72: 252.04 | J72: 0 | K72: 0
B73: 46367 | C73: 271.76 | D73: 76.03 | E73: 106.25 | F73: 89.79 | G73: 0 | H73: 0.31 | I73: 272.07 | J73: 0 | K73: 0
B74: 46368 | C74: 277.98 | D74: 75.36 | E74: 102.5 | F74: 90 | G74: 10.11 | H74: 0 | I74: 277.98 | J74: 0 | K74: 0
... B183: 46477 | C183: 217.72 | D183: 77.18 | E183: 87.06 | F183: 50 | G183: 18.48 | H183: 0 | I183: 232.72 | J183: 0 | K183: -15
B186: Total winter supply | D186: =SUM(D2:D183)/1000 -> 14.16234 | E186: =SUM(E2:E183)/1000 -> 15.58937 | F186: =SUM(F2:F183)/1000 -> 12.66491 | G186: =SUM(G2:G183)/1000 -> 2.45353 | J186: =SUM(J2:J183)/1000 -> 0
B187: Average daily flow | D187: =AVERAGE(D2:D183) -> 77.815055 | E187: =AVERAGE(E2:E183) -> 85.655879 | F187: =AVERAGE(F2:F183) -> 69.587418 | G187: =AVERAGE(G2:G183) -> 13.480934 | J187: =AVERAGE(J2:J183) -> 0

Sheet Scenario 2 fig 16 tab 12-14
A1: =HYPERLINK("#'Contents'!A1","Content Page") -> Content Page | B1: Gas Day | C1: GB & Moffat demand | D1: UKCS | E1: Norway | F1: LNG Import | G1: GB Storage withdrawal | H1: GB Storage injection | I1: NTS demand | J1: Imports from continental Europe | K1: Exports to continental Europe
B2: 46296 | C2: 138.07 | D2: 80 | E2: 30.46 | F2: 77.59 | G2: 0 | H2: 39.98 | I2: 188.05 | J2: 0 | K2: -10
B3: 46297 | C3: 123.29 | D3: 76.17 | E3: 64.73 | F3: 19.51 | G3: 0 | H3: 27.11 | I3: 160.4 | J3: 0 | K3: -10 | N3: Figure 16
B4: 46298 | C4: 121.82 | D4: 77.55 | E4: 77.02 | F4: 4 | G4: 0 | H4: 13.8 | I4: 158.57 | J4: 0 | K4: -22.95
B5: 46299 | C5: 152.32 | D5: 69.8 | E5: 49.06 | F5: 51.6 | G5: 0 | H5: 8.13 | I5: 170.45 | J5: 0 | K5: -10
B6: 46300 | C6: 158.81 | D6: 71.53 | E6: 59.06 | F6: 46.57 | G6: 0 | H6: 8.35 | I6: 177.16 | J6: 0 | K6: -10
B7: 46301 | C7: 164.33 | D7: 74.22 | E7: 69.89 | F7: 38.9 | G7: 0 | H7: 8.68 | I7: 183.01 | J7: 0 | K7: -10
B8: 46302 | C8: 156.18 | D8: 78.7 | E8: 74.34 | F8: 23.77 | G8: 0 | H8: 10.63 | I8: 176.81 | J8: 0 | K8: -10
B9: 46303 | C9: 123.62 | D9: 79.38 | E9: 77.35 | F9: 4 | G9: 0 | H9: 9 | I9: 160.73 | J9: 0 | K9: -28.11
B10: 46304 | C10: 124.12 | D10: 79.93 | E10: 71.05 | F10: 4 | G10: 0 | H10: 8.81 | I10: 154.98 | J10: 0 | K10: -22.05
B11: 46305 | C11: 110.95 | D11: 79.14 | E11: 75.73 | F11: 4 | G11: 0 | H11: 6.12 | I11: 158.87 | J11: 0 | K11: -41.8
B12: 46306 | C12: 139.21 | D12: 78.89 | E12: 73.54 | F12: 4 | G12: 0 | H12: 6 | I12: 156.42 | J12: 0 | K12: -11.21
B13: 46307 | C13: 162.03 | D13: 79.95 | E13: 64.36 | F13: 33.72 | G13: 0 | H13: 6 | I13: 178.03 | J13: 0 | K13: -10
B14: 46308 | C14: 177.87 | D14: 79.63 | E14: 77.22 | F14: 34.02 | G14: 0 | H14: 3 | I14: 190.87 | J14: 0 | K14: -10
B15: 46309 | C15: 181.66 | D15: 79.29 | E15: 78.52 | F15: 33.85 | G15: 0 | H15: 0 | I15: 191.66 | J15: 0 | K15: -10
... B35: 46329 | C35: 194.97 | D35: 73.22 | E35: 71.03 | F35: 50.72 | G35: 0 | H35: 0 | I35: 194.97 | J35: 0 | K35: 0
B36: 46330 | C36: 160.77 | D36: 75.2 | E36: 78.52 | F36: 7.05 | G36: 0 | H36: 0 | I36: 160.77 | J36: 0 | K36: 0 | O36: Table 12 | W36: Table 13
B37: 46331 | C37: 189.09 | D37: 76.52 | E37: 77.17 | F37: 35.4 | G37: 0 | H37: 0 | I37: 189.09 | J37: 0 | K37: 0 | O37: Demand Breakdown | P37: Scenario | Q37: Winter Outlook Forecast | W37: Supply Breakdown | X37: Scenario | Y37: Winter Outlook Forecast
B38: 46332 | C38: 197.62 | D38: 74.73 | E38: 76.78 | F38: 46.11 | G38: 0 | H38: 0 | I38: 197.62 | J38: 0 | K38: 0 | O38: Non-daily metered (NDM) | P38: 29.955616 | Q38: ='Gas demand fig 1 & tab 1'!F3 -> 26.445739 | W38: UK Continental Shelf | X38: =AC38/1000 -> 13.417 | Y38: 14.2 | AB38: UKCS | AC38: =SUM(D2:D183) -> 13417
B39: 46333 | C39: 217.09 | D39: 75.11 | E39: 71.99 | F39: 69.99 | G39: 0 | H39: 0 | I39: 217.09 | J39: 0 | K39: 0 | O39: Daily metered (DM) and Industrial | P39: 3.8195848 | Q39: ='Gas demand fig 1 & tab 1'!F4 -> 3.6882562 | W39: Norway | X39: =AC39/1000 -> 16.17472 | Y39: 15.53055 | AB39: Norway | AC39: =SUM(E2:E183) -> 16174.72
B40: 46334 | C40: 288.44 | D40: 74.33 | E40: 77.38 | F40: 110 | G40: 26.72 | H40: 0 | I40: 288.44 | J40: 0 | K40: 0 | O40: Gas demand for electircity generation | P40: 9.2192625 | Q40: ='Gas demand fig 1 & tab 1'!F5 -> 7.6034955 | W40: LNG Import | X40: =AC40/1000 -> 16.80547 | Y40: 12.06821 | AB40: LNG | AC40: =SUM(F2:F183) -> 16805.47
B41: 46335 | C41: 283.38 | D41: 73.78 | E41: 76.75 | F41: 110 | G41: 22.85 | H41: 0 | I41: 283.38 | J41: 0 | K41: 0 | O41: Exports to Ireland | P41: 3.4713792 | Q41: ='Gas demand fig 1 & tab 1'!F7 -> 3.309801 | W41: Imports from continental Europe | X41: =AC41/1000 -> 0.23614 | Y41: 0.1 | AB41: IUK/BBL | AC41: =SUM(J2:J183) -> 236.14
B42: 46336 | C42: 308 | D42: 74.46 | E42: 88.59 | F42: 110 | G42: 34.95 | H42: 0 | I42: 308 | J42: 0 | K42: 0 | O42: Exports to continental Europe | P42: 0.38612 | Q42: ='Gas demand fig 1 & tab 1'!F8 -> 1.3726968 | S42: IUK | T42: =SUMIF(K2:K183,"<0")*-1 -> 386.12 | U42: =T42/1000 -> 0.38612 | W42: GB Storage Withdrawal | X42: =(AC42/1000) -> 2.14816 | Y42: 2.3393755 | AB42: Storage | AC42: =SUM(G2:G183) -> 2148.16
B43: 46337 | C43: 236.91 | D43: 77.89 | E43: 83.47 | F43: 95.9 | G43: 0 | H43: 20.35 | I43: 257.26 | J43: 0 | K43: 0 | O43: GB Storage Injection | P43: 1.92956 | Q43: ='Gas demand fig 1 & tab 1'!F9 -> 2.1330467 | S43: Injection | T43: =SUM(H2:H183) -> 1929.56 | U43: =T43/1000 -> 1.92956 | W43: Total | X43: =SUM(X38:X42) -> 48.78149 | Y43: =SUM(Y38:Y42) -> 44.238136
B44: 46338 | C44: 223.63 | D44: 75.77 | E44: 83.16 | F44: 90.32 | G44: 0 | H44: 25.62 | I44: 249.25 | J44: 0 | K44: 0 | O44: Total | P44: =SUM(P38:P43) -> 48.781523 | Q44: =SUM(Q38:Q43) -> 44.553035
B45: 46339 | C45: 240.61 | D45: 75.15 | E45: 81.45 | F45: 98.71 | G45: 0 | H45: 14.7 | I45: 255.31 | J45: 0 | K45: 0
B46: 46340 | C46: 258.89 | D46: 76.89 | E46: 80.08 | F46: 106.49 | G46: 0 | H46: 4.57 | I46: 263.46 | J46: 0 | K46: 0
B47: 46341 | C47: 300.67 | D47: 77.81 | E47: 85.67 | F47: 110 | G47: 27.19 | H47: 0 | I47: 300.67 | J47: 0 | K47: 0
B48: 46342 | C48: 315.23 | D48: 78.11 | E48: 106.07 | F48: 110 | G48: 21.05 | H48: 0 | I48: 315.23 | J48: 0 | K48: 0
B49: 46343 | C49: 301.46 | D49: 75.91 | E49: 82.49 | F49: 110 | G49: 33.06 | H49: 0 | I49: 301.46 | J49: 0 | K49: 0
B50: 46344 | C50: 299.62 | D50: 74.73 | E50: 80.07 | F50: 110 | G50: 34.82 | H50: 0 | I50: 299.62 | J50: 0 | K50: 0
B51: 46345 | C51: 296.23 | D51: 78 | E51: 94.33 | F51: 110 | G51: 13.89 | H51: 0 | I51: 296.23 | J51: 0 | K51: 0
B52: 46346 | C52: 252.76 | D52: 80.57 | E52: 104.54 | F52: 92.72 | G52: 0 | H52: 25.07 | I52: 277.83 | J52: 0 | K52: 0
B53: 46347 | C53: 265.15 | D53: 77.82 | E53: 96.15 | F53: 101.87 | G53: 0 | H53: 10.69 | I53: 275.84 | J53: 0 | K53: 0
B54: 46348 | C54: 238.26 | D54: 74.75 | E54: 92.64 | F54: 93 | G54: 0 | H54: 22.12 | I54: 260.38 | J54: 0 | K54: 0 | M54: Table 14
B55: 46349 | C55: 314.73 | D55: 77.42 | E55: 90.8 | F55: 110 | G55: 36.51 | H55: 0 | I55: 314.73 | J55: 0 | K55: 0 | N55: 46357 | O55: 46375
B56: 46350 | C56: 337.14 | D56: 77.64 | E56: 105 | F56: 110.93 | G56: 43.57 | H56: 0 | I56: 337.14 | J56: 0 | K56: 0 | M56: Supply Breakdown | N56: Peak | O56: High Storage
B57: 46351 | C57: 304.39 | D57: 73.38 | E57: 95.29 | F57: 110 | G57: 25.72 | H57: 0 | I57: 304.39 | J57: 0 | K57: 0 | M57: UK Continental Shelf | N57: =_xlfn.XLOOKUP($N$55,$B$2:$B$183,D$2:D$183) -> 70.75 | O57: =_xlfn.XLOOKUP($O$55,$B$2:$B$183,D$2:D$183) -> 75.75
B58: 46352 | C58: 378.29 | D58: 72.47 | E58: 105 | F58: 150 | G58: 50.82 | H58: 0 | I58: 378.29 | J58: 0 | K58: 0 | M58: Norway | N58: =_xlfn.XLOOKUP($N$55,$B$2:$B$183,E$2:E$183) -> 105 | O58: =_xlfn.XLOOKUP($O$55,$B$2:$B$183,E$2:E$183) -> 134
B59: 46353 | C59: 392.31 | D59: 71.04 | E59: 105 | F59: 150 | G59: 66.27 | H59: 0 | I59: 392.31 | J59: 0 | K59: 0 | M59: LNG Import | N59: =_xlfn.XLOOKUP($N$55,$B$2:$B$183,F$2:F$183) -> 150 | O59: =_xlfn.XLOOKUP($O$55,$B$2:$B$183,F$2:F$183) -> 150
B60: 46354 | C60: 375.9 | D60: 71.46 | E60: 105 | F60: 147.27 | G60: 52.17 | H60: 0 | I60: 375.9 | J60: 0 | K60: 0 | M60: Imports from continental Europe | N60: =_xlfn.XLOOKUP($N$55,$B$2:$B$183,J$2:J$183) -> 0 | O60: =_xlfn.XLOOKUP($O$55,$B$2:$B$183,J$2:J$183) -> 37.35
B61: 46355 | C61: 388.59 | D61: 66.76 | E61: 105 | F61: 150 | G61: 66.83 | H61: 0 | I61: 388.59 | J61: 0 | K61: 0 | M61: GB Storage Withdrawal | N61: =_xlfn.XLOOKUP($N$55,$B$2:$B$183,G$2:G$183) -> 101.14 | O61: =_xlfn.XLOOKUP($O$55,$B$2:$B$183,G$2:G$183) -> 16.7
B62: 46356 | C62: 411 | D62: 69.46 | E62: 105 | F62: 150 | G62: 86.54 | H62: 0 | I62: 411 | J62: 0 | K62: 0 | M62: Demand | N62: =_xlfn.XLOOKUP($N$55,$B$2:$B$183,I$2:I$183) -> 426.89 | O62: =_xlfn.XLOOKUP($O$55,$B$2:$B$183,I$2:I$183) -> 413.81
B63: 46357 | C63: 426.89 | D63: 70.75 | E63: 105 | F63: 150 | G63: 101.14 | H63: 0 | I63: 426.89 | J63: 0 | K63: 0
B64: 46358 | C64: 420.78 | D64: 71.37 | E64: 105 | F64: 150 | G64: 94.41 | H64: 0 | I64: 420.78 | J64: 0 | K64: 0
B65: 46359 | C65: 425.32 | D65: 73.01 | E65: 105.02 | F65: 150 | G65: 97.29 | H65: 0 | I65: 425.32 | J65: 0 | K65: 0
B66: 46360 | C66: 310.89 | D66: 73.48 | E66: 91.7 | F66: 115 | G66: 30.71 | H66: 0 | I66: 310.89 | J66: 0 | K66: 0
B67: 46361 | C67: 298.9 | D67: 74.1 | E67: 81.82 | F67: 115 | G67: 27.98 | H67: 0 | I67: 298.9 | J67: 0 | K67: 0
B68: 46362 | C68: 389.09 | D68: 77.34 | E68: 105 | F68: 150 | G68: 56.76 | H68: 0 | I68: 389.09 | J68: 0 | K68: 0
B69: 46363 | C69: 419.64 | D69: 73.26 | E69: 122.54 | F69: 150 | G69: 73.85 | H69: 0 | I69: 419.64 | J69: 0 | K69: 0
B70: 46364 | C70: 411.14 | D70: 70.11 | E70: 134 | F70: 150 | G70: 46.36 | H70: 0 | I70: 411.14 | J70: 10.67 | K70: 0
B71: 46365 | C71: 363.42 | D71: 68.46 | E71: 111.31 | F71: 150 | G71: 33.65 | H71: 0 | I71: 363.42 | J71: 0 | K71: 0
B72: 46366 | C72: 324.28 | D72: 72.4 | E72: 105 | F72: 138.54 | G72: 8.35 | H72: 0 | I72: 324.28 | J72: 0 | K72: 0
B73: 46367 | C73: 254.68 | D73: 72.03 | E73: 106.25 | F73: 99.25 | G73: 0 | H73: 22.85 | I73: 277.53 | J73: 0 | K73: 0
B74: 46368 | C74: 264.3 | D74: 71.4 | E74: 102.5 | F74: 104.96 | G74: 0 | H74: 14.56 | I74: 278.86 | J74: 0 | K74: 0
... B183: 46477 | C183: 146.57 | D183: 73.12 | E183: 79.48 | F183: 21.64 | G183: 0 | H183: 27.67 | I183: 174.24 | J183: 0 | K183: 0
B186: Total winter supply | D186: =SUM(D2:D183)/1000 -> 13.417 | E186: =SUM(E2:E183)/1000 -> 16.17472 | F186: =SUM(F2:F183)/1000 -> 16.80547 | G186: =SUM(G2:G183)/1000 -> 2.14816 | J186: =SUM(J2:J183)/1000 -> 0.23614
B187: Average daily flow | D187: =AVERAGE(D2:D183) -> 73.71978 | E187: =AVERAGE(E2:E183) -> 88.872088 | F187: =AVERAGE(F2:F183) -> 92.337747 | G187: =AVERAGE(G2:G183) -> 11.803077 | J187: =AVERAGE(J2:J183) -> 1.2974725

Sheet Scenario 3 fig 17 tab 15-16
A1: =HYPERLINK("#'Contents'!A1","Content Page") -> Content Page | B1: Gas Day | C1: Demand | D1: UKCS | E1: Norway | F1: Imports from continental Europe | G1: LNG Import | H1: GB Storage Withdrawal | I1: Shortage | J1: storage_inj | K1: Storage w/d % | N1: Figure 17
B2: 46439 | C2: 282.86 | D2: 73.88 | E2: 74.46 | F2: 0 | G2: 95 | H2: 39.51 | I2: 0 | J2: 0 | K2: 1
B3: 46440 | C3: 309.51 | D3: 74.12 | E3: 92.98 | F3: 0 | G3: 95 | H3: 47.41 | I3: 0 | J3: 0 | K3: 1
B4: 46441 | C4: 293.77 | D4: 72.09 | E4: 82.78 | F4: 0 | G4: 95 | H4: 43.9 | I4: 0 | J4: 0 | K4: 1
B5: 46442 | C5: 291.47 | D5: 72.61 | E5: 80.18 | F5: 0 | G5: 95 | H5: 43.68 | I5: 0 | J5: 0 | K5: 1
B6: 46443 | C6: 300.03 | D6: 74.42 | E6: 90.21 | F6: 0 | G6: 95 | H6: 40.4 | I6: 0 | J6: 0 | K6: 1
B7: 46444 | C7: 373.53 | D7: 78.12 | E7: 105 | F7: 0 | G7: 130.39 | H7: 60.02 | I7: 0 | J7: 0 | K7: 1
B8: 46445 | C8: 381.33 | D8: 77.56 | E8: 105 | F8: 0 | G8: 137.8 | H8: 60.96 | I8: 0 | J8: 0 | K8: 1
B9: 46446 | C9: 417.43 | D9: 78.67 | E9: 105 | F9: 0 | G9: 150 | H9: 83.75 | I9: 0 | J9: 0 | K9: 1
B10: 46447 | C10: 433.05 | D10: 78.01 | E10: 106.43 | F10: 0 | G10: 150 | H10: 98.62 | I10: 0 | J10: 0 | K10: 1
B11: 46448 | C11: 378.62 | D11: 76 | E11: 105 | F11: 0 | G11: 145.73 | H11: 51.89 | I11: 0 | J11: 0 | K11: 0.96036554
B12: 46449 | C12: 332.14 | D12: 75.35 | E12: 105 | F12: 0 | G12: 116.2 | H12: 35.59 | I12: 0 | J12: 0 | K12: 0.70263887
B13: 46450 | C13: 310.49 | D13: 73.59 | E13: 105 | F13: 0 | G13: 113.29 | H13: 18.61 | I13: 0 | J13: 0 | K13: 0.60437417
... B16: 46453 | C16: 271.46 | D16: 78.86 | E16: 96.2 | F16: 0 | G16: 95 | H16: 1.4 | I16: 0 | J16: 0 | K16: 0.52921244
B18: MRS Opening Stock | C18: 1039.08
B19: MRS Opening % | C19: 0.64450661
B20: MRS Closing Stock | C20: 430.81
N22: this uses Norway to preserve LNG
C27: Table 15
C28: MRS Storage % Full | E28: Opening Stocks | G28: Volume used over period
C29: =C19 -> 0.64450661 | E29: =C18 -> 1039.08 | G29: =C18-C20 -> 608.27
C31: Table 16
D32: 15 day average (mcm/d) | E32: Max (mcm/d) | F32: Date
C33: Demand | D33: =AVERAGE($C$2:$C$16) -> 329.256 | E33: =MAX($C$2:$C$16) -> 433.05 | F33: =INDEX($B$2:$B$16,MATCH(E33,$C$2:$C$16,0),1) -> 46447
C34: UK Continental Shelf | D34: =AVERAGE($D$2:$D$16) -> 75.9 | E34: =MAX($D$2:$D$16) -> 78.86 | F34: =INDEX($B$2:$B$16,MATCH(E34,$D$2:$D$16,0),1) -> 46453
C35: Norway | D35: =AVERAGE($E$2:$E$16) -> 96.609333 | E35: =MAX($E$2:$E$16) -> 106.43 | F35: =INDEX($B$2:$B$16,MATCH(E35,$E$2:$E$16,0),1) -> 46447
C36: LNG Import | D36: =AVERAGE($G$2:$G$16) -> 113.56067 | E36: =MAX($G$2:$G$16) -> 150 | F36: =INDEX($B$2:$B$16,MATCH(E36,$G$2:$G$16,0),1) -> 46446
C37: GB Storage Withdrawal | D37: =AVERAGE($H$2:$H$16) -> 43.185333 | E37: =MAX($H$2:$H$16) -> 98.62 | F37: =INDEX($B$2:$B$16,MATCH(E37,$H$2:$H$16,0),1) -> 46447
C38: Imports from continental Europe | D38: =AVERAGE($F$2:$F$16) -> 0 | E38: =MAX($F$2:$F$16) -> 0 | F38: =INDEX($B$2:$B$16,MATCH(E38,$F$2:$F$16,0),1) -> 46439

Sheet Sensitivities figure 18
A1: =HYPERLINK("#'Contents'!A1","Content Page") -> Content Page | B1: GasDay | C1: Demand | D1: UKCS | E1: Norway | F1: Imports from continental Europe | G1: LNG Import | H1: GB Storage Withdrawal | I1: Shortage | J1: storage_inj | K1: Storage w/d % | N1: Figure 18
B2: 46439 | C2: 282.86 | D2: 73.88 | E2: 105 | F2: 0 | G2: 48.14 | H2: 55.83 | I2: 0 | J2: 0 | K2: 1
B3: 46440 | C3: 309.51 | D3: 74.12 | E3: 105 | F3: 0 | G3: 71.78 | H3: 58.6 | I3: 0 | J3: 0 | K3: 1
B4: 46441 | C4: 293.77 | D4: 72.09 | E4: 105 | F4: 0 | G4: 56.91 | H4: 59.77 | I4: 0 | J4: 0 | K4: 1
B5: 46442 | C5: 291.47 | D5: 72.61 | E5: 105 | F5: 0 | G5: 54.19 | H5: 59.67 | I5: 0 | J5: 0 | K5: 1
B6: 46443 | C6: 300.03 | D6: 74.42 | E6: 105 | F6: 0 | G6: 61.22 | H6: 59.39 | I6: 0 | J6: 0 | K6: 1
B7: 46444 | C7: 373.53 | D7: 78.12 | E7: 105 | F7: 0 | G7: 124.49 | H7: 65.92 | I7: 0 | J7: 0 | K7: 1
B8: 46445 | C8: 381.33 | D8: 77.56 | E8: 105 | F8: 0 | G8: 137.62 | H8: 61.14 | I8: 0 | J8: 0 | K8: 0.9969196
B9: 46446 | C9: 417.43 | D9: 78.67 | E9: 105.29 | F9: 0 | G9: 150 | H9: 83.47 | I9: 0 | J9: 0 | K9: 0.95656638
B10: 46447 | C10: 433.05 | D10: 78.01 | E10: 134 | F10: 23.65 | G10: 114.45 | H10: 82.94 | I10: 0 | J10: 0 | K10: 0.63024951
B11: 46448 | C11: 378.62 | D11: 76 | E11: 134 | F11: 67.99 | G11: 15 | H11: 85.63 | I11: 0 | J11: 0 | K11: 0.62521819
B12: 46449 | C12: 332.14 | D12: 75.35 | E12: 134 | F12: 34.5 | G12: 15 | H12: 73.3 | I12: 0 | J12: 0 | K12: 0.56956566
B13: 46450 | C13: 310.49 | D13: 73.59 | E13: 134 | F13: 24.21 | G13: 15 | H13: 63.68 | I13: 0 | J13: 0 | K13: 0.49245302
... B16: 46453 | C16: 271.46 | D16: 78.86 | E16: 134 | F16: 32.15 | G16: 15 | H16: 11.45 | I16: 0 | J16: 0 | K16: 0.2309272
B18: MRS Opening Stock | C18: 989.58
B19: MRS Opening % | C19: 0.61380341 | F19: =58+24 -> 82
B20: MRS Closing Stock | C20: 179.71 | F20: =F11/F19 -> 0.82914634
C28: MRS Storage % Full | E28: Opening Stocks | G28: Volume used over period
C29: =C19 -> 0.61380341 | E29: =C18 -> 989.58 | G29: =C18-C20 -> 809.87
D32: 15 day average (mcm/d) | E32: Max (mcm/d) | F32: Date
C33: Demand | D33: =AVERAGE($C$2:$C$16) -> 329.256 | E33: =MAX($C$2:$C$16) -> 433.05 | F33: =INDEX($B$2:$B$16,MATCH(E33,$C$2:$C$16,0),1) -> 46447
C34: UK Continental Shelf | D34: =AVERAGE($D$2:$D$16) -> 75.9 | E34: =MAX($D$2:$D$16) -> 78.86 | F34: =INDEX($B$2:$B$16,MATCH(E34,$D$2:$D$16,0),1) -> 46453
C35: Norway | D35: =AVERAGE($E$2:$E$16) -> 118.55267 | E35: =MAX($E$2:$E$16) -> 134 | F35: =INDEX($B$2:$B$16,MATCH(E35,$E$2:$E$16,0),1) -> 46447
C36: LNG Import | D36: =AVERAGE($G$2:$G$16) -> 60.586667 | E36: =MAX($G$2:$G$16) -> 150 | F36: =INDEX($B$2:$B$16,MATCH(E36,$G$2:$G$16,0),1) -> 46446
C37: GB Storage Withdrawal | D37: =AVERAGE($H$2:$H$16) -> 57.712 | E37: =MAX($H$2:$H$16) -> 85.63 | F37: =INDEX($B$2:$B$16,MATCH(E37,$H$2:$H$16,0),1) -> 46448
C38: Imports from continental Europe | D38: =AVERAGE($F$2:$F$16) -> 16.502667 | E38: =MAX($F$2:$F$16) -> 67.99 | F38: =INDEX($B$2:$B$16,MATCH(E38,$F$2:$F$16,0),1) -> 46448

Sheet Sensitivities figure 19
A1: =HYPERLINK("#'Contents'!A1","Content Page") -> Content Page | B1: GasDay | C1: Demand | D1: UKCS | E1: Norway | F1: Imports from continental Europe | G1: LNG Import | H1: GB Storage Withdrawal | I1: Shortage | J1: storage_inj | K1: Storage w/d %
B2: 46439 | C2: 282.86 | D2: 73.88 | E2: 81.83 | F2: 0 | G2: 95 | H2: 32.14 | I2: 0 | J2: 0 | K2: 0.91179793 | N2: Figure 19
B3: 46440 | C3: 309.51 | D3: 74.12 | E3: 102.38 | F3: 0 | G3: 95 | H3: 38.01 | I3: 0 | J3: 0 | K3: 0.91025773
B4: 46441 | C4: 293.77 | D4: 72.09 | E4: 91.95 | F4: 0 | G4: 95 | H4: 34.73 | I4: 0 | J4: 0 | K4: 0.91025773
B5: 46442 | C5: 291.47 | D5: 72.61 | E5: 92.94 | F5: 0 | G5: 95 | H5: 30.92 | I5: 0 | J5: 0 | K5: 0.85686415
B6: 46443 | C6: 300.03 | D6: 74.42 | E6: 98.78 | F6: 0 | G6: 95 | H6: 31.83 | I6: 0 | J6: 0 | K6: 0.81733237
B7: 46444 | C7: 373.53 | D7: 78.12 | E7: 105 | F7: 0 | G7: 149.85 | H7: 40.55 | I7: 0 | J7: 0 | K7: 0.75007701
B8: 46445 | C8: 381.33 | D8: 77.56 | E8: 108.37 | F8: 0 | G8: 150 | H8: 45.4 | I8: 0 | J8: 0 | K8: 0.48998871
B9: 46446 | C9: 417.43 | D9: 78.67 | E9: 134 | F9: 26.8 | G9: 150 | H9: 27.95 | I9: 0 | J9: 0 | K9: 0.42252798
B10: 46447 | C10: 433.05 | D10: 78.01 | E10: 134 | F10: 45.72 | G10: 150 | H10: 25.33 | I10: 0 | J10: 0 | K10: 0.19837766
B11: 46448 | C11: 378.62 | D11: 76 | E11: 134 | F11: 6.22 | G11: 150 | H11: 12.4 | I11: 0 | J11: 0 | K11: 0.19683746
B12: 46449 | C12: 332.14 | D12: 75.35 | E12: 114.34 | F12: -15 | G12: 150 | H12: 7.45 | I12: 0 | J12: 0 | K12: 0.14909128
B13: 46450 | C13: 310.49 | D13: 73.59 | E13: 105 | F13: -15 | G13: 144.87 | H13: 2.03 | I13: 0 | J13: 0 | K13: 0.14826984
B14: 46451 | C14: 290.75 | D14: 76.64 | E14: 105 | F14: -15 | G14: 122.22 | H14: 1.89 | I14: 0 | J14: 0 | K14: 0.14826984
... B16: 46453 | C16: 271.46 | D16: 78.86 | E16: 105 | F16: -15 | G16: 101.94 | H16: 0.67 | I16: 0 | J16: 0 | K16: 0.14755108
B18: MRS Opening Stock | C18: 401.56
B19: MRS Opening % | C19: 0.24907425
B20: MRS Closing Stock | C20: 101.41
E21: Cont
E22: 58 | F22: =F10/E22 -> 0.78827586
E23: =E22+24 -> 82 | F23: =F10/E23 -> 0.55756098
C28: MRS Storage % Full | E28: Opening Stocks | G28: Volume used over period
C29: =C19 -> 0.24907425 | E29: =C18 -> 401.56 | G29: =C18-C20 -> 300.15
D32: 15 day average (mcm/d) | E32: Max (mcm/d) | F32: Date
C33: Demand | D33: =AVERAGE($C$2:$C$16) -> 329.256 | E33: =MAX($C$2:$C$16) -> 433.05 | F33: =INDEX($B$2:$B$16,MATCH(E33,$C$2:$C$16,0),1) -> 46447
C34: UK Continental Shelf | D34: =AVERAGE($D$2:$D$16) -> 75.9 | E34: =MAX($D$2:$D$16) -> 78.86 | F34: =INDEX($B$2:$B$16,MATCH(E34,$D$2:$D$16,0),1) -> 46453
C35: Norway | D35: =AVERAGE($E$2:$E$16) -> 107.83933 | E35: =MAX($E$2:$E$16) -> 134 | F35: =INDEX($B$2:$B$16,MATCH(E35,$E$2:$E$16,0),1) -> 46446
C36: LNG Import | D36: =AVERAGE($G$2:$G$16) -> 123.114 | E36: =MAX($G$2:$G$16) -> 150 | F36: =INDEX($B$2:$B$16,MATCH(E36,$G$2:$G$16,0),1) -> 46445
C37: GB Storage Withdrawal | D37: =AVERAGE($H$2:$H$16) -> 22.153333 | E37: =MAX($H$2:$H$16) -> 45.4 | F37: =INDEX($B$2:$B$16,MATCH(E37,$H$2:$H$16,0),1) -> 46445
C38: Imports from continental Europe | D38: =AVERAGE($F$2:$F$16) -> 0.24933333 | E38: =MAX($F$2:$F$16) -> 45.72 | F38: =INDEX($B$2:$B$16,MATCH(E38,$F$2:$F$16,0),1) -> 46447
